BEGIN:VCALENDAR
VERSION:2.0
PRODID:-//CCC - ECPv6.11.2//NONSGML v1.0//EN
CALSCALE:GREGORIAN
METHOD:PUBLISH
X-ORIGINAL-URL:https://success1.ccc.edu
X-WR-CALDESC:Events for CCC
REFRESH-INTERVAL;VALUE=DURATION:PT1H
X-Robots-Tag:noindex
X-PUBLISHED-TTL:PT1H
BEGIN:VTIMEZONE
TZID:America/Chicago
BEGIN:DAYLIGHT
TZOFFSETFROM:-0600
TZOFFSETTO:-0500
TZNAME:CDT
DTSTART:20250309T080000
END:DAYLIGHT
BEGIN:STANDARD
TZOFFSETFROM:-0500
TZOFFSETTO:-0600
TZNAME:CST
DTSTART:20251102T070000
END:STANDARD
END:VTIMEZONE
BEGIN:VEVENT
DTSTART;TZID=America/Chicago:20250116T083000
DTEND;TZID=America/Chicago:20250116T163000
DTSTAMP:20260423T075434
CREATED:20250116T152036Z
LAST-MODIFIED:20250116T152036Z
UID:10003221-1737016200-1737045000@success1.ccc.edu
SUMMARY:City Colleges of Chicago Women’s Conference
DESCRIPTION:
URL:https://success1.ccc.edu/event/city-colleges-of-chicago-womens-conference/
CATEGORIES:District Office,District-wide,Harold Washington,Harry S Truman,Kennedy-King,Malcolm X,Olive-Harvey,Richard J. Daley,Wilbur Wright
ATTACH;FMTTYPE=image/png:https://success1.ccc.edu/app/uploads/WHM_Calendar-Image_DO.png
END:VEVENT
BEGIN:VEVENT
DTSTART;TZID=America/Chicago:20250116T120000
DTEND;TZID=America/Chicago:20250116T133000
DTSTAMP:20260423T075434
CREATED:20250116T152248Z
LAST-MODIFIED:20250116T152249Z
UID:10003222-1737028800-1737034200@success1.ccc.edu
SUMMARY:Olive-Harvey: Let's Talk about EqualiTEA and the History of Hat Wearing
DESCRIPTION:
URL:https://success1.ccc.edu/event/olive-harvey-lets-talk-about-equalitea-and-the-history-of-hat-wearing/
CATEGORIES:Olive-Harvey
ATTACH;FMTTYPE=image/png:https://success1.ccc.edu/app/uploads/WHM_Calendar-Image_OH.png
END:VEVENT
END:VCALENDAR