BEGIN:VCALENDAR
VERSION:2.0
PRODID:-//CCC - ECPv6.11.2//NONSGML v1.0//EN
CALSCALE:GREGORIAN
METHOD:PUBLISH
X-WR-CALNAME:CCC
X-ORIGINAL-URL:https://success1.ccc.edu
X-WR-CALDESC:Events for CCC
REFRESH-INTERVAL;VALUE=DURATION:PT1H
X-Robots-Tag:noindex
X-PUBLISHED-TTL:PT1H
BEGIN:VTIMEZONE
TZID:America/Chicago
BEGIN:DAYLIGHT
TZOFFSETFROM:-0600
TZOFFSETTO:-0500
TZNAME:CDT
DTSTART:20250309T080000
END:DAYLIGHT
BEGIN:STANDARD
TZOFFSETFROM:-0500
TZOFFSETTO:-0600
TZNAME:CST
DTSTART:20251102T070000
END:STANDARD
END:VTIMEZONE
BEGIN:VEVENT
DTSTART;TZID=America/Chicago:20250709T100000
DTEND;TZID=America/Chicago:20250709T110000
DTSTAMP:20260423T230755
CREATED:20250530T170443Z
LAST-MODIFIED:20250530T170443Z
UID:10004128-1752055200-1752058800@success1.ccc.edu
SUMMARY:Malcolm X College: Partners in Education Info Session
DESCRIPTION:
URL:https://success1.ccc.edu/event/malcolm-x-college-partners-in-education-info-session/
CATEGORIES:Malcolm X
ATTACH;FMTTYPE=image/jpeg:https://success1.ccc.edu/app/uploads/CHA-Calendar-Image.jpg
END:VEVENT
BEGIN:VEVENT
DTSTART;TZID=America/Chicago:20250709T120000
DTEND;TZID=America/Chicago:20250709T130000
DTSTAMP:20260423T230755
CREATED:20250530T170436Z
LAST-MODIFIED:20250530T170436Z
UID:10004127-1752062400-1752066000@success1.ccc.edu
SUMMARY:Malcolm X: Partners in Education Info Session
DESCRIPTION:
URL:https://success1.ccc.edu/event/malcolm-x-partners-in-education-info-session-2/
CATEGORIES:Malcolm X
ATTACH;FMTTYPE=image/jpeg:https://success1.ccc.edu/app/uploads/CHA-Calendar-Image.jpg
END:VEVENT
BEGIN:VEVENT
DTSTART;TZID=America/Chicago:20250716T100000
DTEND;TZID=America/Chicago:20250716T110000
DTSTAMP:20260423T230755
CREATED:20250703T002354Z
LAST-MODIFIED:20250703T002354Z
UID:10004284-1752660000-1752663600@success1.ccc.edu
SUMMARY:Partners in Education Info Session
DESCRIPTION:
URL:https://success1.ccc.edu/event/partners-in-education-info-session-95/
CATEGORIES:District-wide
ATTACH;FMTTYPE=image/jpeg:https://success1.ccc.edu/app/uploads/CHA-Calendar-Image.jpg
END:VEVENT
BEGIN:VEVENT
DTSTART;TZID=America/Chicago:20250716T120000
DTEND;TZID=America/Chicago:20250716T130000
DTSTAMP:20260423T230755
CREATED:20250703T002322Z
LAST-MODIFIED:20250703T002322Z
UID:10004283-1752667200-1752670800@success1.ccc.edu
SUMMARY:Partners in Education Info Session
DESCRIPTION:
URL:https://success1.ccc.edu/event/partners-in-education-info-session-94/
CATEGORIES:District-wide
ATTACH;FMTTYPE=image/jpeg:https://success1.ccc.edu/app/uploads/CHA-Calendar-Image.jpg
END:VEVENT
BEGIN:VEVENT
DTSTART;TZID=America/Chicago:20250717T183000
DTEND;TZID=America/Chicago:20250717T193000
DTSTAMP:20260423T230755
CREATED:20250521T193326Z
LAST-MODIFIED:20250521T193326Z
UID:10004107-1752777000-1752780600@success1.ccc.edu
SUMMARY:Partners in Education Info Session
DESCRIPTION:
URL:https://success1.ccc.edu/event/partners-in-education-info-session-83/
CATEGORIES:District-wide,Harold Washington,Harry S Truman,Kennedy-King,Malcolm X,Olive-Harvey,Richard J. Daley,Wilbur Wright
ATTACH;FMTTYPE=image/jpeg:https://success1.ccc.edu/app/uploads/CHA-Calendar-Image.jpg
END:VEVENT
BEGIN:VEVENT
DTSTART;TZID=America/Chicago:20250730T100000
DTEND;TZID=America/Chicago:20250730T110000
DTSTAMP:20260423T230755
CREATED:20250530T172056Z
LAST-MODIFIED:20250530T172057Z
UID:10004139-1753869600-1753873200@success1.ccc.edu
SUMMARY:Kennedy-King: Partners in Education Info Session
DESCRIPTION:
URL:https://success1.ccc.edu/event/kennedy-king-partners-in-education-info-session-4/
CATEGORIES:Kennedy-King
ATTACH;FMTTYPE=image/jpeg:https://success1.ccc.edu/app/uploads/CHA-Calendar-Image.jpg
END:VEVENT
BEGIN:VEVENT
DTSTART;TZID=America/Chicago:20250730T120000
DTEND;TZID=America/Chicago:20250730T130000
DTSTAMP:20260423T230755
CREATED:20250530T172029Z
LAST-MODIFIED:20250530T172029Z
UID:10004138-1753876800-1753880400@success1.ccc.edu
SUMMARY:Kennedy-King: Partners in Education Info Session
DESCRIPTION:
URL:https://success1.ccc.edu/event/kennedy-king-partners-in-education-info-session-3/
CATEGORIES:Kennedy-King
ATTACH;FMTTYPE=image/jpeg:https://success1.ccc.edu/app/uploads/CHA-Calendar-Image.jpg
END:VEVENT
END:VCALENDAR