BEGIN:VCALENDAR
VERSION:2.0
PRODID:-//CCC - ECPv6.11.2//NONSGML v1.0//EN
CALSCALE:GREGORIAN
METHOD:PUBLISH
X-WR-CALNAME:CCC
X-ORIGINAL-URL:https://success1.ccc.edu
X-WR-CALDESC:Events for CCC
REFRESH-INTERVAL;VALUE=DURATION:PT1H
X-Robots-Tag:noindex
X-PUBLISHED-TTL:PT1H
BEGIN:VTIMEZONE
TZID:America/Chicago
BEGIN:DAYLIGHT
TZOFFSETFROM:-0600
TZOFFSETTO:-0500
TZNAME:CDT
DTSTART:20240310T080000
END:DAYLIGHT
BEGIN:STANDARD
TZOFFSETFROM:-0500
TZOFFSETTO:-0600
TZNAME:CST
DTSTART:20241103T070000
END:STANDARD
END:VTIMEZONE
BEGIN:VEVENT
DTSTART;TZID=America/Chicago:20240117T090000
DTEND;TZID=America/Chicago:20240117T170000
DTSTAMP:20260420T233252
CREATED:20240111T165951Z
LAST-MODIFIED:20240111T165951Z
UID:10000978-1705482000-1705510800@success1.ccc.edu
SUMMARY:Malcolm X: Welcome Week Back to Campus Celebration
DESCRIPTION:
URL:https://success1.ccc.edu/event/malcolm-x-welcome-week-back-to-campus-celebration/
CATEGORIES:Malcolm X
ATTACH;FMTTYPE=image/jpeg:https://success1.ccc.edu/app/uploads/MX_Calendar-Image_01.jpg
END:VEVENT
BEGIN:VEVENT
DTSTART;TZID=America/Chicago:20240124T100000
DTEND;TZID=America/Chicago:20240124T130000
DTSTAMP:20260420T233252
CREATED:20240125T053645Z
LAST-MODIFIED:20240125T053645Z
UID:10001196-1706090400-1706101200@success1.ccc.edu
SUMMARY:Malcolm X: Employer Engagement
DESCRIPTION:
URL:https://success1.ccc.edu/event/malcolm-x-employer-engagement/
CATEGORIES:Malcolm X
ATTACH;FMTTYPE=image/jpeg:https://success1.ccc.edu/app/uploads/MX_Calendar-Image_01.jpg
END:VEVENT
BEGIN:VEVENT
DTSTART;TZID=America/Chicago:20240131T100000
DTEND;TZID=America/Chicago:20240131T110000
DTSTAMP:20260420T233252
CREATED:20240131T160451Z
LAST-MODIFIED:20240131T160451Z
UID:10001277-1706695200-1706698800@success1.ccc.edu
SUMMARY:Malcolm X: Main Campus Weekly Employer Engagement
DESCRIPTION:
URL:https://success1.ccc.edu/event/malcolm-x-main-campus-weekly-employer-engagement/
CATEGORIES:Malcolm X
ATTACH;FMTTYPE=image/jpeg:https://success1.ccc.edu/app/uploads/MX_Calendar-Image_02-e1699379239366-yd62Pq.tmp_.jpg
END:VEVENT
END:VCALENDAR