BEGIN:VCALENDAR
VERSION:2.0
PRODID:-//CCC - ECPv6.11.2//NONSGML v1.0//EN
CALSCALE:GREGORIAN
METHOD:PUBLISH
X-WR-CALNAME:CCC
X-ORIGINAL-URL:https://success1.ccc.edu
X-WR-CALDESC:Events for CCC
REFRESH-INTERVAL;VALUE=DURATION:PT1H
X-Robots-Tag:noindex
X-PUBLISHED-TTL:PT1H
BEGIN:VTIMEZONE
TZID:America/Chicago
BEGIN:DAYLIGHT
TZOFFSETFROM:-0600
TZOFFSETTO:-0500
TZNAME:CDT
DTSTART:20250309T080000
END:DAYLIGHT
BEGIN:STANDARD
TZOFFSETFROM:-0500
TZOFFSETTO:-0600
TZNAME:CST
DTSTART:20251102T070000
END:STANDARD
END:VTIMEZONE
BEGIN:VEVENT
DTSTART;TZID=America/Chicago:20250404T140000
DTEND;TZID=America/Chicago:20250404T200000
DTSTAMP:20260422T000255
CREATED:20250109T215043Z
LAST-MODIFIED:20250109T215043Z
UID:10003120-1743775200-1743796800@success1.ccc.edu
SUMMARY:Olive-Harvey: Olive-Harvey vs. Kennedy-King Baseball Game
DESCRIPTION:
URL:https://success1.ccc.edu/event/olive-harvey-olive-harvey-vs-kennedy-king-baseball-game-2/
CATEGORIES:Olive-Harvey
ATTACH;FMTTYPE=image/jpeg:https://success1.ccc.edu/app/uploads/Calendar-Image-Athletics_KKC.jpg
END:VEVENT
BEGIN:VEVENT
DTSTART;TZID=America/Chicago:20250423T140000
DTEND;TZID=America/Chicago:20250423T200000
DTSTAMP:20260422T000255
CREATED:20250109T210934Z
LAST-MODIFIED:20250109T210934Z
UID:10003111-1745416800-1745438400@success1.ccc.edu
SUMMARY:Olive-Harvey: Olive-Harvey vs. Kennedy-King Baseball Game
DESCRIPTION:
URL:https://success1.ccc.edu/event/olive-harvey-olive-harvey-vs-kennedy-king-baseball-game/
CATEGORIES:Olive-Harvey
ATTACH;FMTTYPE=image/jpeg:https://success1.ccc.edu/app/uploads/Calendar-Image-Athletics_KKC.jpg
END:VEVENT
BEGIN:VEVENT
DTSTART;TZID=America/Chicago:20250429T140000
DTEND;TZID=America/Chicago:20250429T200000
DTSTAMP:20260422T000255
CREATED:20250109T211126Z
LAST-MODIFIED:20250109T211126Z
UID:10003113-1745935200-1745956800@success1.ccc.edu
SUMMARY:Olive-Harvey: Olive-Harvey vs. Rock Valley Baseball Game
DESCRIPTION:
URL:https://success1.ccc.edu/event/olive-harvey-olive-harvey-vs-rock-valley-baseball-game/
CATEGORIES:Olive-Harvey
ATTACH;FMTTYPE=image/jpeg:https://success1.ccc.edu/app/uploads/Calendar-Image-Athletics_KKC.jpg
END:VEVENT
END:VCALENDAR