BEGIN:VCALENDAR
VERSION:2.0
PRODID:-//CCC - ECPv6.11.2//NONSGML v1.0//EN
CALSCALE:GREGORIAN
METHOD:PUBLISH
X-ORIGINAL-URL:https://success1.ccc.edu
X-WR-CALDESC:Events for CCC
REFRESH-INTERVAL;VALUE=DURATION:PT1H
X-Robots-Tag:noindex
X-PUBLISHED-TTL:PT1H
BEGIN:VTIMEZONE
TZID:America/Chicago
BEGIN:DAYLIGHT
TZOFFSETFROM:-0600
TZOFFSETTO:-0500
TZNAME:CDT
DTSTART:20250309T080000
END:DAYLIGHT
BEGIN:STANDARD
TZOFFSETFROM:-0500
TZOFFSETTO:-0600
TZNAME:CST
DTSTART:20251102T070000
END:STANDARD
BEGIN:DAYLIGHT
TZOFFSETFROM:-0600
TZOFFSETTO:-0500
TZNAME:CDT
DTSTART:20260308T080000
END:DAYLIGHT
BEGIN:STANDARD
TZOFFSETFROM:-0500
TZOFFSETTO:-0600
TZNAME:CST
DTSTART:20261101T070000
END:STANDARD
END:VTIMEZONE
BEGIN:VEVENT
DTSTART;TZID=America/Chicago:20251216T133000
DTEND;TZID=America/Chicago:20251216T143000
DTSTAMP:20260419T142512
CREATED:20250828T211605Z
LAST-MODIFIED:20250828T211605Z
UID:10004791-1765891800-1765895400@success1.ccc.edu
SUMMARY:Daley: Build Your Winning Application - Jack Kent Cooke Scholarship Workshop (Virtual)
DESCRIPTION:
URL:https://success1.ccc.edu/event/daley-build-your-winning-application-jack-kent-cooke-scholarship-workshop-virtual/
CATEGORIES:Richard J. Daley
ATTACH;FMTTYPE=image/png:https://success1.ccc.edu/app/uploads/Transfer_Per-College_RD-Smi0Q8.png
END:VEVENT
BEGIN:VEVENT
DTSTART;TZID=America/Chicago:20251216T153000
DTEND;TZID=America/Chicago:20251216T170000
DTSTAMP:20260419T142512
CREATED:20251208T195617Z
LAST-MODIFIED:20251208T195617Z
UID:10005347-1765899000-1765904400@success1.ccc.edu
SUMMARY:Harold Washington: Dual Enrollment Information Session
DESCRIPTION:
URL:https://success1.ccc.edu/event/harold-washington-dual-enrollment-information-session-3/
CATEGORIES:Harold Washington
ATTACH;FMTTYPE=image/png:https://success1.ccc.edu/app/uploads/Early-College-_HW-CWdjeE.png
END:VEVENT
BEGIN:VEVENT
DTSTART;TZID=America/Chicago:20251216T180000
DTEND;TZID=America/Chicago:20251216T190000
DTSTAMP:20260419T142512
CREATED:20251212T192610Z
LAST-MODIFIED:20251212T192610Z
UID:10005329-1765908000-1765911600@success1.ccc.edu
SUMMARY:Machine Learning University Cohort #2 Announcement Session
DESCRIPTION:
URL:https://success1.ccc.edu/event/machine-learning-university-co-hort-2-announcement-session/
CATEGORIES:District-wide,Kennedy-King
ATTACH;FMTTYPE=image/jpeg:https://success1.ccc.edu/app/uploads/Information-Technology-CC-01-miMjqn.jpg
END:VEVENT
BEGIN:VEVENT
DTSTART;VALUE=DATE:20251217
DTEND;VALUE=DATE:20251218
DTSTAMP:20260419T142512
CREATED:20251205T175438Z
LAST-MODIFIED:20251205T175438Z
UID:10005336-1765929600-1766015999@success1.ccc.edu
SUMMARY:Truman: SNAP Benefits Information Session
DESCRIPTION:
URL:https://success1.ccc.edu/event/truman-snap-benefits-information-session/
CATEGORIES:Harry S Truman
ATTACH;FMTTYPE=image/jpeg:https://success1.ccc.edu/app/uploads/HT_Calendar-Image_01-e1761589957842-XVHdi3.jpg
END:VEVENT
BEGIN:VEVENT
DTSTART;TZID=America/Chicago:20251217T093000
DTEND;TZID=America/Chicago:20251217T120000
DTSTAMP:20260419T142512
CREATED:20250902T211626Z
LAST-MODIFIED:20250902T211626Z
UID:10004804-1765963800-1765972800@success1.ccc.edu
SUMMARY:Wright: Financial Aid Workshop
DESCRIPTION:
URL:https://success1.ccc.edu/event/wright-financial-aid-workshop-2/
CATEGORIES:Wilbur Wright
ATTACH;FMTTYPE=image/jpeg:https://success1.ccc.edu/app/uploads/Financial-Aid_Calendar-lLyNYr.jpg
END:VEVENT
BEGIN:VEVENT
DTSTART;TZID=America/Chicago:20251217T093000
DTEND;TZID=America/Chicago:20251217T120000
DTSTAMP:20260419T142512
CREATED:20251002T145000Z
LAST-MODIFIED:20251002T145001Z
UID:10005048-1765963800-1765972800@success1.ccc.edu
SUMMARY:Wright: Financial Aid Completion Workshop
DESCRIPTION:
URL:https://success1.ccc.edu/event/wright-financial-aid-completion-workshop-88/
CATEGORIES:Wilbur Wright
ATTACH;FMTTYPE=image/jpeg:https://success1.ccc.edu/app/uploads/Financial-Aid_Calendar-V7fIVx.jpg
END:VEVENT
BEGIN:VEVENT
DTSTART;TZID=America/Chicago:20251217T093000
DTEND;TZID=America/Chicago:20251217T120000
DTSTAMP:20260419T142512
CREATED:20251002T145017Z
LAST-MODIFIED:20251002T145017Z
UID:10005053-1765963800-1765972800@success1.ccc.edu
SUMMARY:Wright: Financial Aid Completion Workshop
DESCRIPTION:
URL:https://success1.ccc.edu/event/wright-financial-aid-completion-workshop-90/
CATEGORIES:Wilbur Wright
ATTACH;FMTTYPE=image/jpeg:https://success1.ccc.edu/app/uploads/Financial-Aid_Calendar-V7fIVx.jpg
END:VEVENT
BEGIN:VEVENT
DTSTART;TZID=America/Chicago:20251217T100000
DTEND;TZID=America/Chicago:20251217T110000
DTSTAMP:20260419T142512
CREATED:20251212T192602Z
LAST-MODIFIED:20251212T192602Z
UID:10005380-1765965600-1765969200@success1.ccc.edu
SUMMARY:Partners in Education Info Session
DESCRIPTION:
URL:https://success1.ccc.edu/event/partners-in-education-info-session-142/
CATEGORIES:District-wide,Harold Washington,Harry S Truman,Kennedy-King,Malcolm X,Olive-Harvey,Richard J. Daley,Wilbur Wright
ATTACH;FMTTYPE=image/jpeg:https://success1.ccc.edu/app/uploads/CHA-Calendar-Image-90uwMj.jpg
END:VEVENT
BEGIN:VEVENT
DTSTART;TZID=America/Chicago:20251217T100000
DTEND;TZID=America/Chicago:20251217T120000
DTSTAMP:20260419T142513
CREATED:20251113T202944Z
LAST-MODIFIED:20251113T202945Z
UID:10005284-1765965600-1765972800@success1.ccc.edu
SUMMARY:Wright: Satisfactory Academic Progress Workshop
DESCRIPTION:
URL:https://success1.ccc.edu/event/wright-satisfactory-academic-progress-workshop-21/
CATEGORIES:Wilbur Wright
ATTACH;FMTTYPE=image/jpeg:https://success1.ccc.edu/app/uploads/Financial-Aid_Calendar-V7fIVx.jpg
END:VEVENT
BEGIN:VEVENT
DTSTART;TZID=America/Chicago:20251217T103000
DTEND;TZID=America/Chicago:20251217T130000
DTSTAMP:20260419T142513
CREATED:20251119T223150Z
LAST-MODIFIED:20251119T223151Z
UID:10005296-1765967400-1765976400@success1.ccc.edu
SUMMARY:Harold Washington: New Student Orientation
DESCRIPTION:
URL:https://success1.ccc.edu/event/harold-washington-new-student-orientation-115/
CATEGORIES:Harold Washington
ATTACH;FMTTYPE=image/jpeg:https://success1.ccc.edu/app/uploads/HW_Calendar-Image_03-p8b7Zc.jpg
END:VEVENT
BEGIN:VEVENT
DTSTART;TZID=America/Chicago:20251217T103000
DTEND;TZID=America/Chicago:20251217T130000
DTSTAMP:20260419T142513
CREATED:20251119T223216Z
LAST-MODIFIED:20251119T223216Z
UID:10005297-1765967400-1765976400@success1.ccc.edu
SUMMARY:Harold Washington: New Student Orientation
DESCRIPTION:
URL:https://success1.ccc.edu/event/harold-washington-new-student-orientation-116/
CATEGORIES:Harold Washington
ATTACH;FMTTYPE=image/jpeg:https://success1.ccc.edu/app/uploads/HW_Calendar-Image_03-p8b7Zc.jpg
END:VEVENT
BEGIN:VEVENT
DTSTART;TZID=America/Chicago:20251217T120000
DTEND;TZID=America/Chicago:20251217T130000
DTSTAMP:20260419T142513
CREATED:20251212T192638Z
LAST-MODIFIED:20251212T192638Z
UID:10005381-1765972800-1765976400@success1.ccc.edu
SUMMARY:Partners in Education Info Session
DESCRIPTION:
URL:https://success1.ccc.edu/event/partners-in-education-info-session-143/
CATEGORIES:District-wide,Harold Washington,Harry S Truman,Kennedy-King,Malcolm X,Olive-Harvey,Richard J. Daley,Wilbur Wright
ATTACH;FMTTYPE=image/jpeg:https://success1.ccc.edu/app/uploads/CHA-Calendar-Image-90uwMj.jpg
END:VEVENT
BEGIN:VEVENT
DTSTART;TZID=America/Chicago:20251217T160000
DTEND;TZID=America/Chicago:20251217T180000
DTSTAMP:20260419T142513
CREATED:20251113T203026Z
LAST-MODIFIED:20251113T203026Z
UID:10005285-1765987200-1765994400@success1.ccc.edu
SUMMARY:Truman: Satisfactory Academic Progress (SAP) Appeal Workshop
DESCRIPTION:
URL:https://success1.ccc.edu/event/truman-satisfactory-academic-progress-sap-appeal-workshop-47/
CATEGORIES:Harry S Truman
ATTACH;FMTTYPE=image/jpeg:https://success1.ccc.edu/app/uploads/HT_Calendar-Image_01-e1761589957842-XVHdi3.jpg
END:VEVENT
BEGIN:VEVENT
DTSTART;TZID=America/Chicago:20251218T130000
DTEND;TZID=America/Chicago:20251218T173000
DTSTAMP:20260419T142513
CREATED:20251023T200818Z
LAST-MODIFIED:20251023T200818Z
UID:10005169-1766062800-1766079000@success1.ccc.edu
SUMMARY:Harold Washington: Satisfactory Academic Progress Workshop
DESCRIPTION:
URL:https://success1.ccc.edu/event/harold-washington-satisfactory-academic-progress-workshop-4/
CATEGORIES:Harold Washington
ATTACH;FMTTYPE=image/jpeg:https://success1.ccc.edu/app/uploads/Financial-Aid_Calendar-V7fIVx.jpg
END:VEVENT
BEGIN:VEVENT
DTSTART;TZID=America/Chicago:20251218T130000
DTEND;TZID=America/Chicago:20251218T173000
DTSTAMP:20260419T142513
CREATED:20251023T200835Z
LAST-MODIFIED:20251023T200836Z
UID:10005170-1766062800-1766079000@success1.ccc.edu
SUMMARY:Harold Washington: Satisfactory Academic Progress Workshop
DESCRIPTION:
URL:https://success1.ccc.edu/event/harold-washington-satisfactory-academic-progress-workshop-5/
CATEGORIES:Harold Washington
ATTACH;FMTTYPE=image/jpeg:https://success1.ccc.edu/app/uploads/Financial-Aid_Calendar-V7fIVx.jpg
END:VEVENT
BEGIN:VEVENT
DTSTART;TZID=America/Chicago:20251218T133000
DTEND;TZID=America/Chicago:20251218T160000
DTSTAMP:20260419T142513
CREATED:20251201T215100Z
LAST-MODIFIED:20251201T215100Z
UID:10005294-1766064600-1766073600@success1.ccc.edu
SUMMARY:Harold Washington: New Student Orientation
DESCRIPTION:
URL:https://success1.ccc.edu/event/harold-washington-new-student-orientation-114/
CATEGORIES:Harold Washington
ATTACH;FMTTYPE=image/jpeg:https://success1.ccc.edu/app/uploads/HW_Stdnt_Act_01-u7fppU.jpg
END:VEVENT
BEGIN:VEVENT
DTSTART;TZID=America/Chicago:20251218T140000
DTEND;TZID=America/Chicago:20251218T180000
DTSTAMP:20260419T142513
CREATED:20251113T203039Z
LAST-MODIFIED:20251113T203039Z
UID:10005286-1766066400-1766080800@success1.ccc.edu
SUMMARY:Truman: Satisfactory Academic Progress (SAP) Appeal Workshop
DESCRIPTION:
URL:https://success1.ccc.edu/event/truman-satisfactory-academic-progress-sap-appeal-workshop-48/
CATEGORIES:Harry S Truman
ATTACH;FMTTYPE=image/jpeg:https://success1.ccc.edu/app/uploads/HT_Calendar-Image_01-e1761589957842-XVHdi3.jpg
END:VEVENT
BEGIN:VEVENT
DTSTART;TZID=America/Chicago:20251218T143000
DTEND;TZID=America/Chicago:20251218T173000
DTSTAMP:20260419T142513
CREATED:20250902T211602Z
LAST-MODIFIED:20250902T211602Z
UID:10004803-1766068200-1766079000@success1.ccc.edu
SUMMARY:Wright: Financial Aid Workshop
DESCRIPTION:
URL:https://success1.ccc.edu/event/wright-financial-aid-workshop/
CATEGORIES:Wilbur Wright
ATTACH;FMTTYPE=image/jpeg:https://success1.ccc.edu/app/uploads/Financial-Aid_Calendar_23-29kunw.jpg
END:VEVENT
BEGIN:VEVENT
DTSTART;TZID=America/Chicago:20251218T143000
DTEND;TZID=America/Chicago:20251218T173000
DTSTAMP:20260419T142513
CREATED:20251002T145003Z
LAST-MODIFIED:20251002T145004Z
UID:10005050-1766068200-1766079000@success1.ccc.edu
SUMMARY:Wright: Financial Aid Completion Workshop
DESCRIPTION:
URL:https://success1.ccc.edu/event/wright-financial-aid-completion-workshop-89/
CATEGORIES:Wilbur Wright
ATTACH;FMTTYPE=image/jpeg:https://success1.ccc.edu/app/uploads/Financial-Aid_Calendar-V7fIVx.jpg
END:VEVENT
BEGIN:VEVENT
DTSTART;TZID=America/Chicago:20251218T143000
DTEND;TZID=America/Chicago:20251218T173000
DTSTAMP:20260419T142513
CREATED:20251002T145102Z
LAST-MODIFIED:20251002T145102Z
UID:10005056-1766068200-1766079000@success1.ccc.edu
SUMMARY:Wright: Financial Aid Completion Workshop
DESCRIPTION:
URL:https://success1.ccc.edu/event/wright-financial-aid-completion-workshop-91/
CATEGORIES:Wilbur Wright
ATTACH;FMTTYPE=image/jpeg:https://success1.ccc.edu/app/uploads/Financial-Aid_Calendar-V7fIVx.jpg
END:VEVENT
BEGIN:VEVENT
DTSTART;TZID=America/Chicago:20251218T150000
DTEND;TZID=America/Chicago:20251218T170000
DTSTAMP:20260419T142513
CREATED:20250926T214752Z
LAST-MODIFIED:20250926T214753Z
UID:10005025-1766070000-1766077200@success1.ccc.edu
SUMMARY:Malcolm X: Financial Aid Completion Workshop
DESCRIPTION:
URL:https://success1.ccc.edu/event/malcolm-x-financial-aid-completion-workshop-23/
CATEGORIES:Malcolm X
ATTACH;FMTTYPE=image/jpeg:https://success1.ccc.edu/app/uploads/Financial-Aid_Calendar-V7fIVx.jpg
END:VEVENT
BEGIN:VEVENT
DTSTART;TZID=America/Chicago:20251218T150000
DTEND;TZID=America/Chicago:20251218T170000
DTSTAMP:20260419T142513
CREATED:20250926T214822Z
LAST-MODIFIED:20250926T214823Z
UID:10005028-1766070000-1766077200@success1.ccc.edu
SUMMARY:Malcolm X: Financial Aid Completion Workshop
DESCRIPTION:
URL:https://success1.ccc.edu/event/malcolm-x-financial-aid-completion-workshop-26/
CATEGORIES:Malcolm X
ATTACH;FMTTYPE=image/jpeg:https://success1.ccc.edu/app/uploads/Financial-Aid_Calendar-V7fIVx.jpg
END:VEVENT
BEGIN:VEVENT
DTSTART;TZID=America/Chicago:20251218T150000
DTEND;TZID=America/Chicago:20251218T170000
DTSTAMP:20260419T142513
CREATED:20251113T203131Z
LAST-MODIFIED:20251113T203131Z
UID:10005287-1766070000-1766077200@success1.ccc.edu
SUMMARY:Wright: Satisfactory Academic Progress Workshop
DESCRIPTION:
URL:https://success1.ccc.edu/event/wright-satisfactory-academic-progress-workshop-22/
CATEGORIES:Wilbur Wright
ATTACH;FMTTYPE=image/jpeg:https://success1.ccc.edu/app/uploads/Financial-Aid_Calendar-V7fIVx.jpg
END:VEVENT
BEGIN:VEVENT
DTSTART;TZID=America/Chicago:20251218T190000
DTEND;TZID=America/Chicago:20251218T210000
DTSTAMP:20260419T142513
CREATED:20251029T203511Z
LAST-MODIFIED:20251029T203512Z
UID:10005216-1766084400-1766091600@success1.ccc.edu
SUMMARY:Malcolm X: Men's Basketball Home Game vs. Kankakee
DESCRIPTION:
URL:https://success1.ccc.edu/event/malcolm-x-mens-basketball-home-game-vs-kankakee/
CATEGORIES:Malcolm X
ATTACH;FMTTYPE=image/jpeg:https://success1.ccc.edu/app/uploads/Calendar-Image-Athletics_MX-gGX6t2.jpg
END:VEVENT
BEGIN:VEVENT
DTSTART;TZID=America/Chicago:20251219T103000
DTEND;TZID=America/Chicago:20251219T130000
DTSTAMP:20260419T142513
CREATED:20251119T223042Z
LAST-MODIFIED:20251119T223042Z
UID:10005293-1766140200-1766149200@success1.ccc.edu
SUMMARY:Harold Washington: New Student Orientation (Virtual)
DESCRIPTION:
URL:https://success1.ccc.edu/event/harold-washington-new-student-orientation-virtual-10/
CATEGORIES:Harold Washington
ATTACH;FMTTYPE=image/jpeg:https://success1.ccc.edu/app/uploads/HW_Stdnt_Act_02-rU2Vt7.jpg
END:VEVENT
BEGIN:VEVENT
DTSTART;TZID=America/Chicago:20251220T090000
DTEND;TZID=America/Chicago:20251220T150000
DTSTAMP:20260419T142513
CREATED:20251124T200800Z
LAST-MODIFIED:20251124T200801Z
UID:10005308-1766221200-1766242800@success1.ccc.edu
SUMMARY:City Colleges of Chicago Volunteer Day at Fight 2 Feed
DESCRIPTION:
URL:https://success1.ccc.edu/event/city-colleges-of-chicago-volunteer-day-at-fight-2-feed/
CATEGORIES:District-wide,Harold Washington,Harry S Truman,Kennedy-King,Malcolm X,Olive-Harvey,Richard J. Daley,Wilbur Wright
ATTACH;FMTTYPE=image/jpeg:https://success1.ccc.edu/app/uploads/Volunteer-e7Wl4x.jpg
END:VEVENT
BEGIN:VEVENT
DTSTART;TZID=America/Chicago:20251226T100000
DTEND;TZID=America/Chicago:20260101T180000
DTSTAMP:20260419T142513
CREATED:20251222T181140Z
LAST-MODIFIED:20251222T181141Z
UID:10005288-1766743200-1767290400@success1.ccc.edu
SUMMARY:Malcolm X: Kwanzaa 2025
DESCRIPTION:
URL:https://success1.ccc.edu/event/malcolm-x-kwanzaa-2025-2/
CATEGORIES:District-wide,Malcolm X
ATTACH;FMTTYPE=image/png:https://success1.ccc.edu/app/uploads/Kwanzaa-Calendar-Image-i3Ss0y.png
END:VEVENT
BEGIN:VEVENT
DTSTART;TZID=America/Chicago:20260105T140000
DTEND;TZID=America/Chicago:20260105T180000
DTSTAMP:20260419T142513
CREATED:20251113T203210Z
LAST-MODIFIED:20251113T203210Z
UID:10005289-1767621600-1767636000@success1.ccc.edu
SUMMARY:Truman: Satisfactory Academic Progress (SAP) Appeal Workshop
DESCRIPTION:
URL:https://success1.ccc.edu/event/truman-satisfactory-academic-progress-sap-appeal-workshop-49/
CATEGORIES:Harry S Truman
ATTACH;FMTTYPE=image/jpeg:https://success1.ccc.edu/app/uploads/HT_Calendar-Image_01-e1761589957842-XVHdi3.jpg
END:VEVENT
BEGIN:VEVENT
DTSTART;TZID=America/Chicago:20260106T110000
DTEND;TZID=America/Chicago:20260106T130000
DTSTAMP:20260419T142513
CREATED:20251218T185658Z
LAST-MODIFIED:20251218T185659Z
UID:10005401-1767697200-1767704400@success1.ccc.edu
SUMMARY:Olive-Harvey: Enroll is the Goal Spring 2026
DESCRIPTION:
URL:https://success1.ccc.edu/event/olive-harvey-enroll-is-the-goal-spring-2026/
CATEGORIES:Olive-Harvey
ATTACH;FMTTYPE=image/jpeg:https://success1.ccc.edu/app/uploads/OH_Calendar-Image_01-ksPc7V.jpg
END:VEVENT
BEGIN:VEVENT
DTSTART;TZID=America/Chicago:20260106T120000
DTEND;TZID=America/Chicago:20260106T130000
DTSTAMP:20260419T142513
CREATED:20251215T222504Z
LAST-MODIFIED:20251215T222504Z
UID:10005387-1767700800-1767704400@success1.ccc.edu
SUMMARY:Truman: Biology Pre-semester Workshop
DESCRIPTION:
URL:https://success1.ccc.edu/event/truman-biology-pre-semester-workshop/
CATEGORIES:Harry S Truman
ATTACH;FMTTYPE=image/jpeg:https://success1.ccc.edu/app/uploads/HT_Calendar-Image_01-e1761589957842-XVHdi3.jpg
END:VEVENT
END:VCALENDAR