BEGIN:VCALENDAR
VERSION:2.0
PRODID:-//CCC - ECPv6.11.2//NONSGML v1.0//EN
CALSCALE:GREGORIAN
METHOD:PUBLISH
X-WR-CALNAME:CCC
X-ORIGINAL-URL:https://success1.ccc.edu
X-WR-CALDESC:Events for CCC
REFRESH-INTERVAL;VALUE=DURATION:PT1H
X-Robots-Tag:noindex
X-PUBLISHED-TTL:PT1H
BEGIN:VTIMEZONE
TZID:America/Chicago
BEGIN:DAYLIGHT
TZOFFSETFROM:-0600
TZOFFSETTO:-0500
TZNAME:CDT
DTSTART:20250309T080000
END:DAYLIGHT
BEGIN:STANDARD
TZOFFSETFROM:-0500
TZOFFSETTO:-0600
TZNAME:CST
DTSTART:20251102T070000
END:STANDARD
END:VTIMEZONE
BEGIN:VEVENT
DTSTART;TZID=America/Chicago:20251203T100000
DTEND;TZID=America/Chicago:20251203T130000
DTSTAMP:20260419T082208
CREATED:20250819T151636Z
LAST-MODIFIED:20250819T151636Z
UID:10004501-1764756000-1764766800@success1.ccc.edu
SUMMARY:Olive-Harvey: Army ROTC Table Visit
DESCRIPTION:
URL:https://success1.ccc.edu/event/olive-harvey-army-rotc-table-visit/
CATEGORIES:Olive-Harvey
ATTACH;FMTTYPE=image/png:https://success1.ccc.edu/app/uploads/Transfer_Table_Per-College_OH-EAvN2T.png
END:VEVENT
BEGIN:VEVENT
DTSTART;TZID=America/Chicago:20251203T100000
DTEND;TZID=America/Chicago:20251203T130000
DTSTAMP:20260419T082208
CREATED:20250819T151700Z
LAST-MODIFIED:20250819T151701Z
UID:10004502-1764756000-1764766800@success1.ccc.edu
SUMMARY:Olive-Harvey: NEIU Carruthers Center Table Visit
DESCRIPTION:
URL:https://success1.ccc.edu/event/olive-harvey-neiu-carruthers-center-table-visit-2/
CATEGORIES:Olive-Harvey
ATTACH;FMTTYPE=image/png:https://success1.ccc.edu/app/uploads/Transfer_Table_Per-College_OH-EAvN2T.png
END:VEVENT
BEGIN:VEVENT
DTSTART;TZID=America/Chicago:20251203T100000
DTEND;TZID=America/Chicago:20251203T230000
DTSTAMP:20260419T082208
CREATED:20250826T174315Z
LAST-MODIFIED:20250826T174316Z
UID:10004650-1764756000-1764802800@success1.ccc.edu
SUMMARY:Partners in Education Info Session
DESCRIPTION:
URL:https://success1.ccc.edu/event/partners-in-education-info-session-106/
CATEGORIES:District-wide,Harold Washington,Harry S Truman,Kennedy-King,Malcolm X,Olive-Harvey,Richard J. Daley,Wilbur Wright
ATTACH;FMTTYPE=image/jpeg:https://success1.ccc.edu/app/uploads/CHA-Calendar-Image-90uwMj.jpg
END:VEVENT
BEGIN:VEVENT
DTSTART;TZID=America/Chicago:20251203T103000
DTEND;TZID=America/Chicago:20251203T133000
DTSTAMP:20260419T082208
CREATED:20251023T200816Z
LAST-MODIFIED:20251023T200816Z
UID:10005168-1764757800-1764768600@success1.ccc.edu
SUMMARY:Harold Washington: New Student Orientation
DESCRIPTION:
URL:https://success1.ccc.edu/event/harold-washington-new-student-orientation-110/
CATEGORIES:Harold Washington
ATTACH;FMTTYPE=image/jpeg:https://success1.ccc.edu/app/uploads/HW_Calendar-Image_02-veGUID.jpg
END:VEVENT
BEGIN:VEVENT
DTSTART;TZID=America/Chicago:20251203T110000
DTEND;TZID=America/Chicago:20251203T140000
DTSTAMP:20260419T082208
CREATED:20250710T170941Z
LAST-MODIFIED:20250710T170942Z
UID:10004272-1764759600-1764770400@success1.ccc.edu
SUMMARY:Malcolm X: NEIU\, CSU\, Loyola University Table Visits
DESCRIPTION:
URL:https://success1.ccc.edu/event/malcolm-x-northeastern-chicago-state-loyola-university-table-visits/
CATEGORIES:Malcolm X
ATTACH;FMTTYPE=image/png:https://success1.ccc.edu/app/uploads/Transfer_Table_Per-College_MX.png
END:VEVENT
BEGIN:VEVENT
DTSTART;TZID=America/Chicago:20251203T120000
DTEND;TZID=America/Chicago:20251203T130000
DTSTAMP:20260419T082208
CREATED:20250826T174324Z
LAST-MODIFIED:20250826T174325Z
UID:10004651-1764763200-1764766800@success1.ccc.edu
SUMMARY:Partners in Education Info Session
DESCRIPTION:
URL:https://success1.ccc.edu/event/partners-in-education-info-session-107/
CATEGORIES:District-wide,Harold Washington,Harry S Truman,Kennedy-King,Malcolm X,Olive-Harvey,Richard J. Daley,Wilbur Wright
ATTACH;FMTTYPE=image/jpeg:https://success1.ccc.edu/app/uploads/CHA-Calendar-Image-90uwMj.jpg
END:VEVENT
BEGIN:VEVENT
DTSTART;TZID=America/Chicago:20251203T120000
DTEND;TZID=America/Chicago:20251203T130000
DTSTAMP:20260419T082208
CREATED:20251119T223335Z
LAST-MODIFIED:20251119T223335Z
UID:10005302-1764763200-1764766800@success1.ccc.edu
SUMMARY:Malcolm X: Physical Therapist Assistant Virtual Open House
DESCRIPTION:
URL:https://success1.ccc.edu/event/malcolm-x-physical-therapist-assistant-virtual-open-house/
CATEGORIES:Malcolm X
ATTACH;FMTTYPE=image/jpeg:https://success1.ccc.edu/app/uploads/MX_Calendar-Image_01-C2nx2T.jpg
END:VEVENT
BEGIN:VEVENT
DTSTART;TZID=America/Chicago:20251203T130000
DTEND;TZID=America/Chicago:20251203T130000
DTSTAMP:20260419T082208
CREATED:20251119T223309Z
LAST-MODIFIED:20251119T223309Z
UID:10005301-1764766800-1764766800@success1.ccc.edu
SUMMARY:Olive-Harvey: Trauma Informed Yoga
DESCRIPTION:
URL:https://success1.ccc.edu/event/olive-harvey-trauma-informed-yoga-12/
CATEGORIES:Olive-Harvey
ATTACH;FMTTYPE=image/jpeg:https://success1.ccc.edu/app/uploads/OH_Stdnt_Act_01-KfIzBR.jpg
END:VEVENT
BEGIN:VEVENT
DTSTART;TZID=America/Chicago:20251203T133000
DTEND;TZID=America/Chicago:20251203T143000
DTSTAMP:20260419T082208
CREATED:20250814T155733Z
LAST-MODIFIED:20250814T155733Z
UID:10004468-1764768600-1764772200@success1.ccc.edu
SUMMARY:Daley: Scrubs to Success - Health Science & Nursing Transfer Workshop
DESCRIPTION:
URL:https://success1.ccc.edu/event/daley-scrubs-to-success-health-science-nursing-transfer-workshop/
CATEGORIES:Richard J. Daley
ATTACH;FMTTYPE=image/png:https://success1.ccc.edu/app/uploads/Transfer_Per-College_RD-Smi0Q8.png
END:VEVENT
BEGIN:VEVENT
DTSTART;TZID=America/Chicago:20251203T160000
DTEND;TZID=America/Chicago:20251203T170000
DTSTAMP:20260419T082208
CREATED:20251113T202748Z
LAST-MODIFIED:20251113T202748Z
UID:10005280-1764777600-1764781200@success1.ccc.edu
SUMMARY:Wright: Satisfactory Academic Progress Workshop
DESCRIPTION:
URL:https://success1.ccc.edu/event/wright-satisfactory-academic-progress-workshop-19/
CATEGORIES:Wilbur Wright
ATTACH;FMTTYPE=image/jpeg:https://success1.ccc.edu/app/uploads/Financial-Aid_Calendar-V7fIVx.jpg
END:VEVENT
BEGIN:VEVENT
DTSTART;TZID=America/Chicago:20251203T180000
DTEND;TZID=America/Chicago:20251203T200000
DTSTAMP:20260419T082208
CREATED:20251013T192302Z
LAST-MODIFIED:20251013T192302Z
UID:10005123-1764784800-1764792000@success1.ccc.edu
SUMMARY:Harold Washington: Conversational Spanish III Course
DESCRIPTION:
URL:https://success1.ccc.edu/event/harold-washington-conversational-spanish-iii-course/
CATEGORIES:Harold Washington
ATTACH;FMTTYPE=image/jpeg:https://success1.ccc.edu/app/uploads/CE_Business-m8tZlo.jpg
END:VEVENT
BEGIN:VEVENT
DTSTART;TZID=America/Chicago:20251204T100000
DTEND;TZID=America/Chicago:20251204T110000
DTSTAMP:20260419T082208
CREATED:20251029T202525Z
LAST-MODIFIED:20251029T202525Z
UID:10005201-1764842400-1764846000@success1.ccc.edu
SUMMARY:Olive-Harvey: Write to Win Essay Lab
DESCRIPTION:
URL:https://success1.ccc.edu/event/olive-harvey-write-to-win-essay-lab/
CATEGORIES:Olive-Harvey
ATTACH;FMTTYPE=image/png:https://success1.ccc.edu/app/uploads/Transfer_Per-College_OH-PjSsCL.png
END:VEVENT
BEGIN:VEVENT
DTSTART;TZID=America/Chicago:20251204T100000
DTEND;TZID=America/Chicago:20251204T130000
DTSTAMP:20260419T082208
CREATED:20250814T155550Z
LAST-MODIFIED:20250814T155550Z
UID:10004467-1764842400-1764853200@success1.ccc.edu
SUMMARY:Daley: Northeastern Illinois & Dominican University Table Visit
DESCRIPTION:
URL:https://success1.ccc.edu/event/daley-northeastern-illinois-dominican-university-table-visit/
CATEGORIES:Richard J. Daley
ATTACH;FMTTYPE=image/png:https://success1.ccc.edu/app/uploads/Transfer_Table_Per-College_RD-Iie3X5.png
END:VEVENT
BEGIN:VEVENT
DTSTART;TZID=America/Chicago:20251204T110000
DTEND;TZID=America/Chicago:20251204T120000
DTSTAMP:20260419T082208
CREATED:20250626T183508Z
LAST-MODIFIED:20250626T183508Z
UID:10004271-1764846000-1764849600@success1.ccc.edu
SUMMARY:Malcolm X: NEIU Virtual Information Session
DESCRIPTION:
URL:https://success1.ccc.edu/event/malcolm-x-neiu-virtual-information-session-5/
CATEGORIES:Malcolm X
ATTACH;FMTTYPE=image/png:https://success1.ccc.edu/app/uploads/Transfer_Per-College_MX.png
END:VEVENT
BEGIN:VEVENT
DTSTART;TZID=America/Chicago:20251204T110000
DTEND;TZID=America/Chicago:20251204T140000
DTSTAMP:20260419T082208
CREATED:20250902T211728Z
LAST-MODIFIED:20250902T211729Z
UID:10004808-1764846000-1764856800@success1.ccc.edu
SUMMARY:Daley: Secure Your Spot - Northeastern Illinois University (NEIU) Guaranteed Admission Workshop
DESCRIPTION:
URL:https://success1.ccc.edu/event/daley-secure-your-spot-northeastern-illinois-university-neiu-guaranteed-admission-workshop-3/
CATEGORIES:Richard J. Daley
ATTACH;FMTTYPE=image/png:https://success1.ccc.edu/app/uploads/Transfer_Table_Per-College_RD-Iie3X5.png
END:VEVENT
BEGIN:VEVENT
DTSTART;TZID=America/Chicago:20251204T120000
DTEND;TZID=America/Chicago:20251204T160000
DTSTAMP:20260419T082208
CREATED:20251201T215059Z
LAST-MODIFIED:20251201T215059Z
UID:10005328-1764849600-1764864000@success1.ccc.edu
SUMMARY:Daley: Holiday Karaoke
DESCRIPTION:
URL:https://success1.ccc.edu/event/daley-holiday-karaoke/
CATEGORIES:Richard J. Daley
ATTACH;FMTTYPE=image/jpeg:https://success1.ccc.edu/app/uploads/RD_Calendar-Image_01-ogozbx.jpg
END:VEVENT
BEGIN:VEVENT
DTSTART;TZID=America/Chicago:20251204T130000
DTEND;TZID=America/Chicago:20251204T140000
DTSTAMP:20260419T082208
CREATED:20250624T194536Z
LAST-MODIFIED:20250624T194536Z
UID:10004241-1764853200-1764856800@success1.ccc.edu
SUMMARY:Malcolm X: Virtual Transfer Success Seminar - Application Process
DESCRIPTION:
URL:https://success1.ccc.edu/event/malcolm-x-virtual-transfer-success-seminar-application-process/
CATEGORIES:Malcolm X
ATTACH;FMTTYPE=image/png:https://success1.ccc.edu/app/uploads/Transfer_Per-College_MX.png
END:VEVENT
BEGIN:VEVENT
DTSTART;TZID=America/Chicago:20251204T130000
DTEND;TZID=America/Chicago:20251204T150000
DTSTAMP:20260419T082208
CREATED:20250814T155348Z
LAST-MODIFIED:20250814T155348Z
UID:10004466-1764853200-1764860400@success1.ccc.edu
SUMMARY:Daley: East-West & National Louis University Table Visit
DESCRIPTION:
URL:https://success1.ccc.edu/event/daley-east-west-national-louis-university-table-visit/
CATEGORIES:Richard J. Daley
ATTACH;FMTTYPE=image/png:https://success1.ccc.edu/app/uploads/Transfer_Table_Per-College_RD-Iie3X5.png
END:VEVENT
BEGIN:VEVENT
DTSTART;TZID=America/Chicago:20251204T130000
DTEND;TZID=America/Chicago:20251204T173000
DTSTAMP:20260419T082208
CREATED:20251023T200942Z
LAST-MODIFIED:20251023T200942Z
UID:10005175-1764853200-1764869400@success1.ccc.edu
SUMMARY:Harold Washington: Satisfactory Academic Progress Workshop
DESCRIPTION:
URL:https://success1.ccc.edu/event/harold-washington-satisfactory-academic-progress-workshop-7/
CATEGORIES:Harold Washington
ATTACH;FMTTYPE=image/jpeg:https://success1.ccc.edu/app/uploads/Financial-Aid_Calendar-V7fIVx.jpg
END:VEVENT
BEGIN:VEVENT
DTSTART;TZID=America/Chicago:20251204T133000
DTEND;TZID=America/Chicago:20251204T170000
DTSTAMP:20260419T082208
CREATED:20251023T200838Z
LAST-MODIFIED:20251023T200839Z
UID:10005171-1764855000-1764867600@success1.ccc.edu
SUMMARY:Harold Washington: New Student Orientation
DESCRIPTION:
URL:https://success1.ccc.edu/event/harold-washington-new-student-orientation-111/
CATEGORIES:Harold Washington
ATTACH;FMTTYPE=image/jpeg:https://success1.ccc.edu/app/uploads/HW_Calendar-Image_02-veGUID.jpg
END:VEVENT
BEGIN:VEVENT
DTSTART;TZID=America/Chicago:20251204T140000
DTEND;TZID=America/Chicago:20251204T150000
DTSTAMP:20260419T082208
CREATED:20250627T195912Z
LAST-MODIFIED:20250627T195912Z
UID:10004279-1764856800-1764860400@success1.ccc.edu
SUMMARY:Malcolm X: Transfer Success Seminars - Application Process
DESCRIPTION:
URL:https://success1.ccc.edu/event/malcolm-x-transfer-success-seminars-application-process-4/
CATEGORIES:Malcolm X
ATTACH;FMTTYPE=image/png:https://success1.ccc.edu/app/uploads/Transfer_Per-College_MX.png
END:VEVENT
BEGIN:VEVENT
DTSTART;TZID=America/Chicago:20251204T143000
DTEND;TZID=America/Chicago:20251204T173000
DTSTAMP:20260419T082208
CREATED:20250902T211711Z
LAST-MODIFIED:20250902T211711Z
UID:10004807-1764858600-1764869400@success1.ccc.edu
SUMMARY:Wright: Financial Aid Workshop
DESCRIPTION:
URL:https://success1.ccc.edu/event/wright-financial-aid-workshop-5/
CATEGORIES:Wilbur Wright
ATTACH;FMTTYPE=image/jpeg:https://success1.ccc.edu/app/uploads/Financial-Aid_Calendar-V7fIVx.jpg
END:VEVENT
BEGIN:VEVENT
DTSTART;TZID=America/Chicago:20251204T143000
DTEND;TZID=America/Chicago:20251204T173000
DTSTAMP:20260419T082208
CREATED:20250929T213100Z
LAST-MODIFIED:20250929T213101Z
UID:10005032-1764858600-1764869400@success1.ccc.edu
SUMMARY:Wright: Financial Aid Completion Workshop
DESCRIPTION:
URL:https://success1.ccc.edu/event/wright-financial-aid-completion-workshop-85/
CATEGORIES:Wilbur Wright
ATTACH;FMTTYPE=image/jpeg:https://success1.ccc.edu/app/uploads/Financial-Aid_Calendar-V7fIVx.jpg
END:VEVENT
BEGIN:VEVENT
DTSTART;TZID=America/Chicago:20251204T170000
DTEND;TZID=America/Chicago:20251204T190000
DTSTAMP:20260419T082208
CREATED:20251029T202427Z
LAST-MODIFIED:20251029T202427Z
UID:10005199-1764867600-1764874800@success1.ccc.edu
SUMMARY:Malcolm X: Women's Basketball Home Game vs. Triton
DESCRIPTION:
URL:https://success1.ccc.edu/event/malcolm-x-womens-basketball-home-game-vs-triton/
CATEGORIES:Malcolm X
ATTACH;FMTTYPE=image/jpeg:https://success1.ccc.edu/app/uploads/Calendar-Image-Athletics_MX-gGX6t2.jpg
END:VEVENT
BEGIN:VEVENT
DTSTART;TZID=America/Chicago:20251204T173000
DTEND;TZID=America/Chicago:20251204T193000
DTSTAMP:20260419T082208
CREATED:20251124T201225Z
LAST-MODIFIED:20251124T201225Z
UID:10005318-1764869400-1764876600@success1.ccc.edu
SUMMARY:Daley: Financial Aid/ Alternative Application (RISE) Workshop
DESCRIPTION:
URL:https://success1.ccc.edu/event/daley-financial-aid-alternative-application-rise-workshop/
CATEGORIES:Richard J. Daley
ATTACH;FMTTYPE=image/jpeg:https://success1.ccc.edu/app/uploads/Financial-Aid_Calendar-V7fIVx.jpg
END:VEVENT
BEGIN:VEVENT
DTSTART;TZID=America/Chicago:20251204T180000
DTEND;TZID=America/Chicago:20251204T200000
DTSTAMP:20260419T082208
CREATED:20251103T222237Z
LAST-MODIFIED:20251103T222237Z
UID:10005231-1764871200-1764878400@success1.ccc.edu
SUMMARY:Olive-Harvey: Engineering Information Session
DESCRIPTION:
URL:https://success1.ccc.edu/event/olive-harvey-engineering-information-session-3/
CATEGORIES:Olive-Harvey
ATTACH;FMTTYPE=image/jpeg:https://success1.ccc.edu/app/uploads/School-of-Engineering_Info-Sessioon_Calendar-image-7hiQFp.jpg
END:VEVENT
BEGIN:VEVENT
DTSTART;TZID=America/Chicago:20251204T183000
DTEND;TZID=America/Chicago:20251204T193000
DTSTAMP:20260419T082208
CREATED:20250826T174207Z
LAST-MODIFIED:20250826T174208Z
UID:10004647-1764873000-1764876600@success1.ccc.edu
SUMMARY:Partners in Education Info Session
DESCRIPTION:
URL:https://success1.ccc.edu/event/partners-in-education-info-session-103/
CATEGORIES:District-wide,Harold Washington,Harry S Truman,Kennedy-King,Malcolm X,Olive-Harvey,Richard J. Daley,Wilbur Wright
ATTACH;FMTTYPE=image/jpeg:https://success1.ccc.edu/app/uploads/CHA-Calendar-Image-90uwMj.jpg
END:VEVENT
BEGIN:VEVENT
DTSTART;TZID=America/Chicago:20251204T190000
DTEND;TZID=America/Chicago:20251204T210000
DTSTAMP:20260419T082208
CREATED:20251029T202508Z
LAST-MODIFIED:20251029T202509Z
UID:10005200-1764874800-1764882000@success1.ccc.edu
SUMMARY:Malcolm X: Men's Basketball Home Game vs. Triton
DESCRIPTION:
URL:https://success1.ccc.edu/event/malcolm-x-mens-basketball-home-game-vs-triton/
CATEGORIES:Malcolm X
ATTACH;FMTTYPE=image/jpeg:https://success1.ccc.edu/app/uploads/Calendar-Image-Athletics_MX-gGX6t2.jpg
END:VEVENT
BEGIN:VEVENT
DTSTART;TZID=America/Chicago:20251205T093000
DTEND;TZID=America/Chicago:20251205T123000
DTSTAMP:20260419T082208
CREATED:20251205T175315Z
LAST-MODIFIED:20251205T175316Z
UID:10005332-1764927000-1764937800@success1.ccc.edu
SUMMARY:Malcolm X: SNAP Benefits Information Session
DESCRIPTION:
URL:https://success1.ccc.edu/event/malcolm-x-snap-benefits-information-session/
CATEGORIES:Malcolm X
ATTACH;FMTTYPE=image/jpeg:https://success1.ccc.edu/app/uploads/MX_Calendar-Image_01-C2nx2T.jpg
END:VEVENT
BEGIN:VEVENT
DTSTART;TZID=America/Chicago:20251205T100000
DTEND;TZID=America/Chicago:20251205T140000
DTSTAMP:20260419T082208
CREATED:20251205T175349Z
LAST-MODIFIED:20251205T175349Z
UID:10005333-1764928800-1764943200@success1.ccc.edu
SUMMARY:Daley: SNAP Benefits Information Session
DESCRIPTION:
URL:https://success1.ccc.edu/event/daley-snap-benefits-information-session/
CATEGORIES:Richard J. Daley
ATTACH;FMTTYPE=image/jpeg:https://success1.ccc.edu/app/uploads/RD_Calendar-Image_01-ogozbx.jpg
END:VEVENT
END:VCALENDAR