BEGIN:VCALENDAR
VERSION:2.0
PRODID:-//CCC - ECPv6.11.2//NONSGML v1.0//EN
CALSCALE:GREGORIAN
METHOD:PUBLISH
X-ORIGINAL-URL:https://success1.ccc.edu
X-WR-CALDESC:Events for CCC
REFRESH-INTERVAL;VALUE=DURATION:PT1H
X-Robots-Tag:noindex
X-PUBLISHED-TTL:PT1H
BEGIN:VTIMEZONE
TZID:America/Chicago
BEGIN:DAYLIGHT
TZOFFSETFROM:-0600
TZOFFSETTO:-0500
TZNAME:CDT
DTSTART:20240310T080000
END:DAYLIGHT
BEGIN:STANDARD
TZOFFSETFROM:-0500
TZOFFSETTO:-0600
TZNAME:CST
DTSTART:20241103T070000
END:STANDARD
END:VTIMEZONE
BEGIN:VEVENT
DTSTART;TZID=America/Chicago:20241025T090000
DTEND;TZID=America/Chicago:20241025T140000
DTSTAMP:20260420T043701
CREATED:20241017T205710Z
LAST-MODIFIED:20241017T205710Z
UID:10002571-1729846800-1729864800@success1.ccc.edu
SUMMARY:City Colleges of Chicago Exclusive Loyola Transfer Day
DESCRIPTION:
URL:https://success1.ccc.edu/event/city-colleges-of-chicago-exclusive-loyola-transfer-day/
CATEGORIES:District-wide,Harold Washington,Harry S Truman,Kennedy-King,Malcolm X,Olive-Harvey,Richard J. Daley,Wilbur Wright
ATTACH;FMTTYPE=image/jpeg:https://success1.ccc.edu/app/uploads/Transfer-Event-Oct22.jpg
END:VEVENT
BEGIN:VEVENT
DTSTART;TZID=America/Chicago:20241028T110000
DTEND;TZID=America/Chicago:20241028T150000
DTSTAMP:20260420T043701
CREATED:20241003T192631Z
LAST-MODIFIED:20241003T192631Z
UID:10002409-1730113200-1730127600@success1.ccc.edu
SUMMARY:Daley: Dia De Los Muertos - Skull Decoration
DESCRIPTION:
URL:https://success1.ccc.edu/event/daley-dia-de-los-muertos-skull-decoration/
CATEGORIES:Richard J. Daley
ATTACH;FMTTYPE=image/jpeg:https://success1.ccc.edu/app/uploads/RD_Stdnt_Act_01-e1700515224199-RRa1EU.tmp_.jpg
END:VEVENT
BEGIN:VEVENT
DTSTART;TZID=America/Chicago:20241028T130000
DTEND;TZID=America/Chicago:20241028T150000
DTSTAMP:20260420T043701
CREATED:20241017T212402Z
LAST-MODIFIED:20241017T212402Z
UID:10002576-1730120400-1730127600@success1.ccc.edu
SUMMARY:Daley: Valparaiso University Table Visit
DESCRIPTION:
URL:https://success1.ccc.edu/event/daley-valparaiso-university-table-visit-3/
CATEGORIES:Richard J. Daley
ATTACH;FMTTYPE=image/png:https://success1.ccc.edu/app/uploads/Transfer_Table_Per-College_RD.png
END:VEVENT
BEGIN:VEVENT
DTSTART;TZID=America/Chicago:20241029T000000
DTEND;TZID=America/Chicago:20241029T130000
DTSTAMP:20260420T043701
CREATED:20241014T213135Z
LAST-MODIFIED:20241014T213135Z
UID:10002533-1730160000-1730206800@success1.ccc.edu
SUMMARY:Last Mile Education Fund Information Session
DESCRIPTION:
URL:https://success1.ccc.edu/event/last-mile-education-fund-information-session/
CATEGORIES:District-wide,Harold Washington,Harry S Truman,Kennedy-King,Malcolm X,Olive-Harvey,Richard J. Daley
ATTACH;FMTTYPE=image/jpeg:https://success1.ccc.edu/app/uploads/DO_Stdnt_Act_02.jpg
END:VEVENT
BEGIN:VEVENT
DTSTART;TZID=America/Chicago:20241029T100000
DTEND;TZID=America/Chicago:20241029T130000
DTSTAMP:20260420T043701
CREATED:20241017T213033Z
LAST-MODIFIED:20241017T213033Z
UID:10002577-1730196000-1730206800@success1.ccc.edu
SUMMARY:Daley: University of Illinois at Springfield Table Visit
DESCRIPTION:
URL:https://success1.ccc.edu/event/daley-university-of-illinois-at-springfield-table-visit/
CATEGORIES:Richard J. Daley
ATTACH;FMTTYPE=image/png:https://success1.ccc.edu/app/uploads/Transfer_Table_Per-College_RD.png
END:VEVENT
BEGIN:VEVENT
DTSTART;TZID=America/Chicago:20241029T110000
DTEND;TZID=America/Chicago:20241029T120000
DTSTAMP:20260420T043701
CREATED:20241003T193908Z
LAST-MODIFIED:20241021T171512Z
UID:10002420-1730199600-1730203200@success1.ccc.edu
SUMMARY:Earn and Learn Information session
DESCRIPTION:
URL:https://success1.ccc.edu/event/earn-and-learn-information-session-6/
CATEGORIES:District-wide,Harold Washington,Harry S Truman,Kennedy-King,Malcolm X,Olive-Harvey,Richard J. Daley,Wilbur Wright
ATTACH;FMTTYPE=image/png:https://success1.ccc.edu/app/uploads/CalendarImage_CareerCenter_4_DO.png
END:VEVENT
BEGIN:VEVENT
DTSTART;TZID=America/Chicago:20241029T110000
DTEND;TZID=America/Chicago:20241029T150000
DTSTAMP:20260420T043701
CREATED:20241022T210656Z
LAST-MODIFIED:20241022T210656Z
UID:10002602-1730199600-1730214000@success1.ccc.edu
SUMMARY:Daley: Dia De Los Muertos - Skull Decoration
DESCRIPTION:
URL:https://success1.ccc.edu/event/daley-dia-de-los-muertos-skull-decoration-4/
CATEGORIES:Richard J. Daley
ATTACH;FMTTYPE=image/jpeg:https://success1.ccc.edu/app/uploads/RD_Stdnt_Act_03.jpg
END:VEVENT
BEGIN:VEVENT
DTSTART;TZID=America/Chicago:20241030T103000
DTEND;TZID=America/Chicago:20241030T123000
DTSTAMP:20260420T043701
CREATED:20241022T202713Z
LAST-MODIFIED:20241022T202713Z
UID:10002585-1730284200-1730291400@success1.ccc.edu
SUMMARY:Daley: Cupcake for the Cause
DESCRIPTION:
URL:https://success1.ccc.edu/event/daley-cupcake-for-the-cause/
CATEGORIES:Richard J. Daley
ATTACH;FMTTYPE=image/jpeg:https://success1.ccc.edu/app/uploads/RD_Stdnt_Act_01-e1700515224199-RRa1EU.tmp_.jpg
END:VEVENT
BEGIN:VEVENT
DTSTART;TZID=America/Chicago:20241030T110000
DTEND;TZID=America/Chicago:20241030T150000
DTSTAMP:20260420T043701
CREATED:20241022T210614Z
LAST-MODIFIED:20241022T210614Z
UID:10002601-1730286000-1730300400@success1.ccc.edu
SUMMARY:Daley: Dia De Los Muertos - Skull Decoration
DESCRIPTION:
URL:https://success1.ccc.edu/event/daley-dia-de-los-muertos-skull-decoration-3/
CATEGORIES:Richard J. Daley
ATTACH;FMTTYPE=image/jpeg:https://success1.ccc.edu/app/uploads/RD_Stdnt_Act_02.jpg
END:VEVENT
BEGIN:VEVENT
DTSTART;TZID=America/Chicago:20241031T110000
DTEND;TZID=America/Chicago:20241031T130000
DTSTAMP:20260420T043701
CREATED:20241024T193306Z
LAST-MODIFIED:20241024T193306Z
UID:10002614-1730372400-1730379600@success1.ccc.edu
SUMMARY:Daley: Chat and Treat
DESCRIPTION:
URL:https://success1.ccc.edu/event/daley-chat-and-treat/
CATEGORIES:Richard J. Daley
ATTACH;FMTTYPE=image/jpeg:https://success1.ccc.edu/app/uploads/Project-SAFE-calendar-image.jpg
END:VEVENT
BEGIN:VEVENT
DTSTART;TZID=America/Chicago:20241031T110000
DTEND;TZID=America/Chicago:20241031T150000
DTSTAMP:20260420T043701
CREATED:20241022T210521Z
LAST-MODIFIED:20241022T210522Z
UID:10002600-1730372400-1730386800@success1.ccc.edu
SUMMARY:Daley: Dia De Los Muertos - Skull Decoration
DESCRIPTION:
URL:https://success1.ccc.edu/event/daley-dia-de-los-muertos-skull-decoration-2/
CATEGORIES:Richard J. Daley
ATTACH;FMTTYPE=image/jpeg:https://success1.ccc.edu/app/uploads/RD_Stdnt_Act_02.jpg
END:VEVENT
BEGIN:VEVENT
DTSTART;TZID=America/Chicago:20241031T110000
DTEND;TZID=America/Chicago:20241031T170000
DTSTAMP:20260420T043701
CREATED:20241021T212056Z
LAST-MODIFIED:20241021T212056Z
UID:10002580-1730372400-1730394000@success1.ccc.edu
SUMMARY:Daley: Halloween Day Fun
DESCRIPTION:
URL:https://success1.ccc.edu/event/daley-halloween-day-fun/
CATEGORIES:Richard J. Daley
ATTACH;FMTTYPE=image/jpeg:https://success1.ccc.edu/app/uploads/SGA-Calendar-Image_01_RD.jpg
END:VEVENT
BEGIN:VEVENT
DTSTART;TZID=America/Chicago:20241031T153000
DTEND;TZID=America/Chicago:20241031T180000
DTSTAMP:20260420T043701
CREATED:20241022T210959Z
LAST-MODIFIED:20241022T210959Z
UID:10002605-1730388600-1730397600@success1.ccc.edu
SUMMARY:Daley: Halloween Movie Night
DESCRIPTION:
URL:https://success1.ccc.edu/event/daley-halloween-movie-night/
CATEGORIES:Richard J. Daley
ATTACH;FMTTYPE=image/jpeg:https://success1.ccc.edu/app/uploads/RD_Stdnt_Act_01-e1700515224199-RRa1EU.tmp_.jpg
END:VEVENT
BEGIN:VEVENT
DTSTART;TZID=America/Chicago:20241101T110000
DTEND;TZID=America/Chicago:20241103T160000
DTSTAMP:20260420T043701
CREATED:20240918T145743Z
LAST-MODIFIED:20240918T145743Z
UID:10002328-1730458800-1730649600@success1.ccc.edu
SUMMARY:Malcolm X: The National Student Leadership Diversity Convention
DESCRIPTION:
URL:https://success1.ccc.edu/event/malcolm-x-the-national-student-leadership-diversity-convention/
CATEGORIES:District-wide,Harold Washington,Harry S Truman,Kennedy-King,Malcolm X,Olive-Harvey,Richard J. Daley,Wilbur Wright
ATTACH;FMTTYPE=image/jpeg:https://success1.ccc.edu/app/uploads/MX_Stdnt_Act_02.jpg
END:VEVENT
BEGIN:VEVENT
DTSTART;TZID=America/Chicago:20241101T143000
DTEND;TZID=America/Chicago:20241101T160000
DTSTAMP:20260420T043701
CREATED:20240801T150554Z
LAST-MODIFIED:20240801T150554Z
UID:10001841-1730471400-1730476800@success1.ccc.edu
SUMMARY:HWC Transfer 101 Workshop
DESCRIPTION:
URL:https://success1.ccc.edu/event/hwc-transfer-101-workshop/
CATEGORIES:District Office,District-wide,Harold Washington,Harry S Truman,Kennedy-King,Malcolm X,Olive-Harvey,Richard J. Daley,Wilbur Wright
ATTACH;FMTTYPE=image/png:https://success1.ccc.edu/app/uploads/Transfer_Per-College_HW.png
END:VEVENT
BEGIN:VEVENT
DTSTART;TZID=America/Chicago:20241104T100000
DTEND;TZID=America/Chicago:20241104T130000
DTSTAMP:20260420T043701
CREATED:20241016T200346Z
LAST-MODIFIED:20241016T200346Z
UID:10002557-1730714400-1730725200@success1.ccc.edu
SUMMARY:Daley: Governors State University Dual Degree Program (DDP) Table Visit
DESCRIPTION:
URL:https://success1.ccc.edu/event/daley-governors-state-university-dual-degree-program-ddp-table-visit/
CATEGORIES:Richard J. Daley
ATTACH;FMTTYPE=image/png:https://success1.ccc.edu/app/uploads/Transfer_Table_Per-College_RD.png
END:VEVENT
BEGIN:VEVENT
DTSTART;TZID=America/Chicago:20241104T130000
DTEND;TZID=America/Chicago:20241104T150000
DTSTAMP:20260420T043701
CREATED:20241021T212321Z
LAST-MODIFIED:20241021T212321Z
UID:10002581-1730725200-1730732400@success1.ccc.edu
SUMMARY:Daley: Southern Illinois University at Edwardsville Table Visit
DESCRIPTION:
URL:https://success1.ccc.edu/event/daley-southern-illinois-university-at-edwardsville-table-visit/
CATEGORIES:Richard J. Daley
ATTACH;FMTTYPE=image/png:https://success1.ccc.edu/app/uploads/Transfer_Table_Per-College_RD.png
END:VEVENT
BEGIN:VEVENT
DTSTART;TZID=America/Chicago:20241105T100000
DTEND;TZID=America/Chicago:20241105T130000
DTSTAMP:20260420T043701
CREATED:20241021T212432Z
LAST-MODIFIED:20241021T212432Z
UID:10002582-1730800800-1730811600@success1.ccc.edu
SUMMARY:Daley: National Louis University Table Visit
DESCRIPTION:
URL:https://success1.ccc.edu/event/daley-national-louis-university-table-visit-15/
CATEGORIES:Richard J. Daley
ATTACH;FMTTYPE=image/png:https://success1.ccc.edu/app/uploads/Transfer_Table_Per-College_RD.png
END:VEVENT
BEGIN:VEVENT
DTSTART;TZID=America/Chicago:20241106T100000
DTEND;TZID=America/Chicago:20241106T110000
DTSTAMP:20260420T043701
CREATED:20240829T194440Z
LAST-MODIFIED:20240829T194440Z
UID:10002157-1730887200-1730890800@success1.ccc.edu
SUMMARY:Partners in Education Info Session
DESCRIPTION:
URL:https://success1.ccc.edu/event/partners-in-education-info-session-47/
CATEGORIES:Harold Washington,Harry S Truman,Kennedy-King,Malcolm X,Olive-Harvey,Richard J. Daley,Wilbur Wright
ATTACH;FMTTYPE=image/jpeg:https://success1.ccc.edu/app/uploads/CHA-Calendar-Image.jpg
END:VEVENT
BEGIN:VEVENT
DTSTART;TZID=America/Chicago:20241106T100000
DTEND;TZID=America/Chicago:20241106T130000
DTSTAMP:20260420T043701
CREATED:20241021T213524Z
LAST-MODIFIED:20241021T213524Z
UID:10002583-1730887200-1730898000@success1.ccc.edu
SUMMARY:Daley: Saint Xavier University (SXU) Table Visit
DESCRIPTION:
URL:https://success1.ccc.edu/event/daley-saint-xavier-university-sxu-table-visit/
CATEGORIES:Richard J. Daley
ATTACH;FMTTYPE=image/png:https://success1.ccc.edu/app/uploads/Transfer_Table_Per-College_RD.png
END:VEVENT
BEGIN:VEVENT
DTSTART;TZID=America/Chicago:20241106T120000
DTEND;TZID=America/Chicago:20241106T130000
DTSTAMP:20260420T043701
CREATED:20240829T194337Z
LAST-MODIFIED:20240829T194337Z
UID:10002155-1730894400-1730898000@success1.ccc.edu
SUMMARY:Partners in Education Info Session
DESCRIPTION:
URL:https://success1.ccc.edu/event/partners-in-education-info-session-45/
CATEGORIES:Harold Washington,Harry S Truman,Kennedy-King,Malcolm X,Olive-Harvey,Richard J. Daley,Wilbur Wright
ATTACH;FMTTYPE=image/jpeg:https://success1.ccc.edu/app/uploads/CHA-Calendar-Image.jpg
END:VEVENT
BEGIN:VEVENT
DTSTART;TZID=America/Chicago:20241106T130000
DTEND;TZID=America/Chicago:20241106T150000
DTSTAMP:20260420T043701
CREATED:20241022T203609Z
LAST-MODIFIED:20241022T203609Z
UID:10002589-1730898000-1730905200@success1.ccc.edu
SUMMARY:Daley: Concordia University Table Visit
DESCRIPTION:
URL:https://success1.ccc.edu/event/daley-concordia-university-table-visit-2/
CATEGORIES:Richard J. Daley
ATTACH;FMTTYPE=image/png:https://success1.ccc.edu/app/uploads/Transfer_Table_Per-College_RD.png
END:VEVENT
BEGIN:VEVENT
DTSTART;TZID=America/Chicago:20241107T183000
DTEND;TZID=America/Chicago:20241107T193000
DTSTAMP:20260420T043701
CREATED:20240829T194434Z
LAST-MODIFIED:20240829T194434Z
UID:10002156-1731004200-1731007800@success1.ccc.edu
SUMMARY:Partners in Education Info Session
DESCRIPTION:
URL:https://success1.ccc.edu/event/partners-in-education-info-session-46/
CATEGORIES:Harold Washington,Harry S Truman,Kennedy-King,Malcolm X,Olive-Harvey,Richard J. Daley,Wilbur Wright
ATTACH;FMTTYPE=image/jpeg:https://success1.ccc.edu/app/uploads/CHA-Calendar-Image.jpg
END:VEVENT
BEGIN:VEVENT
DTSTART;TZID=America/Chicago:20241112T100000
DTEND;TZID=America/Chicago:20241112T140000
DTSTAMP:20260420T043701
CREATED:20241014T212410Z
LAST-MODIFIED:20241014T212410Z
UID:10002530-1731405600-1731420000@success1.ccc.edu
SUMMARY:Olive-Harvey: Wilberforce University Virtual Table Visit
DESCRIPTION:
URL:https://success1.ccc.edu/event/olive-harvey-wilberforce-university-virtual-table-visit/
CATEGORIES:District-wide,Harold Washington,Harry S Truman,Kennedy-King,Malcolm X,Olive-Harvey,Richard J. Daley
ATTACH;FMTTYPE=image/png:https://success1.ccc.edu/app/uploads/Transfer_Per-College_OH.png
END:VEVENT
BEGIN:VEVENT
DTSTART;TZID=America/Chicago:20241112T130000
DTEND;TZID=America/Chicago:20241112T150000
DTSTAMP:20260420T043701
CREATED:20241022T203731Z
LAST-MODIFIED:20241022T203731Z
UID:10002590-1731416400-1731423600@success1.ccc.edu
SUMMARY:Daley: Chicago State University (CSU) Table Visit
DESCRIPTION:
URL:https://success1.ccc.edu/event/daley-chicago-state-university-csu-table-visit-2/
CATEGORIES:Richard J. Daley
ATTACH;FMTTYPE=image/png:https://success1.ccc.edu/app/uploads/Transfer_Table_Per-College_RD.png
END:VEVENT
BEGIN:VEVENT
DTSTART;TZID=America/Chicago:20241113T100000
DTEND;TZID=America/Chicago:20241113T110000
DTSTAMP:20260420T043701
CREATED:20240829T194312Z
LAST-MODIFIED:20240829T194312Z
UID:10002153-1731492000-1731495600@success1.ccc.edu
SUMMARY:Partners in Education Info Session
DESCRIPTION:
URL:https://success1.ccc.edu/event/partners-in-education-info-session-43/
CATEGORIES:Harold Washington,Harry S Truman,Kennedy-King,Malcolm X,Olive-Harvey,Richard J. Daley,Wilbur Wright
ATTACH;FMTTYPE=image/jpeg:https://success1.ccc.edu/app/uploads/CHA-Calendar-Image.jpg
END:VEVENT
BEGIN:VEVENT
DTSTART;TZID=America/Chicago:20241113T120000
DTEND;TZID=America/Chicago:20241113T130000
DTSTAMP:20260420T043701
CREATED:20240829T194325Z
LAST-MODIFIED:20240829T194325Z
UID:10002154-1731499200-1731502800@success1.ccc.edu
SUMMARY:Partners in Education Info Session
DESCRIPTION:
URL:https://success1.ccc.edu/event/partners-in-education-info-session-44/
CATEGORIES:Harold Washington,Harry S Truman,Kennedy-King,Malcolm X,Olive-Harvey,Richard J. Daley,Wilbur Wright
ATTACH;FMTTYPE=image/jpeg:https://success1.ccc.edu/app/uploads/CHA-Calendar-Image.jpg
END:VEVENT
BEGIN:VEVENT
DTSTART;TZID=America/Chicago:20241113T140000
DTEND;TZID=America/Chicago:20241113T150000
DTSTAMP:20260420T043701
CREATED:20241104T170100Z
LAST-MODIFIED:20241104T170101Z
UID:10002196-1731506400-1731510000@success1.ccc.edu
SUMMARY:Daley: Transfer 101 Workshop
DESCRIPTION:
URL:https://success1.ccc.edu/event/daley-transfer-101-workshop/
CATEGORIES:District-wide,Harold Washington,Harry S Truman,Kennedy-King,Malcolm X,Olive-Harvey,Richard J. Daley
ATTACH;FMTTYPE=image/png:https://success1.ccc.edu/app/uploads/Transfer_Per-College_RD.png
END:VEVENT
BEGIN:VEVENT
DTSTART;TZID=America/Chicago:20241113T150000
DTEND;TZID=America/Chicago:20241113T160000
DTSTAMP:20260420T043701
CREATED:20241030T212318Z
LAST-MODIFIED:20241030T212318Z
UID:10002638-1731510000-1731513600@success1.ccc.edu
SUMMARY:University of Illinois System (UIUC\, UIC\, & UIS) Guaranteed Admissions Information Session
DESCRIPTION:
URL:https://success1.ccc.edu/event/university-of-illinois-system-uiuc-uic-uis-guaranteed-admissions-information-session/
CATEGORIES:District-wide,Harold Washington,Harry S Truman,Kennedy-King,Malcolm X,Olive-Harvey,Richard J. Daley,Wilbur Wright
ATTACH;FMTTYPE=image/png:https://success1.ccc.edu/app/uploads/Transfer_Per-College_DO.png
END:VEVENT
BEGIN:VEVENT
DTSTART;TZID=America/Chicago:20241114T100000
DTEND;TZID=America/Chicago:20241114T130000
DTSTAMP:20260420T043701
CREATED:20241022T203507Z
LAST-MODIFIED:20241022T203507Z
UID:10002588-1731578400-1731589200@success1.ccc.edu
SUMMARY:Daley: Northeastern Illinois University (NEIU) Table Visit
DESCRIPTION:
URL:https://success1.ccc.edu/event/daley-northeastern-illinois-university-neiu-table-visit-7/
CATEGORIES:Richard J. Daley
ATTACH;FMTTYPE=image/png:https://success1.ccc.edu/app/uploads/Transfer_Table_Per-College_RD.png
END:VEVENT
END:VCALENDAR