BEGIN:VCALENDAR
VERSION:2.0
PRODID:-//CCC - ECPv6.11.2//NONSGML v1.0//EN
CALSCALE:GREGORIAN
METHOD:PUBLISH
X-WR-CALNAME:CCC
X-ORIGINAL-URL:https://success1.ccc.edu
X-WR-CALDESC:Events for CCC
REFRESH-INTERVAL;VALUE=DURATION:PT1H
X-Robots-Tag:noindex
X-PUBLISHED-TTL:PT1H
BEGIN:VTIMEZONE
TZID:America/Chicago
BEGIN:DAYLIGHT
TZOFFSETFROM:-0600
TZOFFSETTO:-0500
TZNAME:CDT
DTSTART:20240310T080000
END:DAYLIGHT
BEGIN:STANDARD
TZOFFSETFROM:-0500
TZOFFSETTO:-0600
TZNAME:CST
DTSTART:20241103T070000
END:STANDARD
END:VTIMEZONE
BEGIN:VEVENT
DTSTART;TZID=America/Chicago:20241001T100000
DTEND;TZID=America/Chicago:20241001T130000
DTSTAMP:20260419T233740
CREATED:20240918T142054Z
LAST-MODIFIED:20240918T142054Z
UID:10002320-1727776800-1727787600@success1.ccc.edu
SUMMARY:Daley: Northeastern Illinois University Table Visit
DESCRIPTION:
URL:https://success1.ccc.edu/event/daley-northeastern-illinois-university-table-visit/
CATEGORIES:Richard J. Daley
ATTACH;FMTTYPE=image/png:https://success1.ccc.edu/app/uploads/Transfer_Table_Per-College_RD.png
END:VEVENT
BEGIN:VEVENT
DTSTART;TZID=America/Chicago:20241001T120000
DTEND;TZID=America/Chicago:20241001T133000
DTSTAMP:20260419T233740
CREATED:20240923T214926Z
LAST-MODIFIED:20240923T214926Z
UID:10002370-1727784000-1727789400@success1.ccc.edu
SUMMARY:Daley: Sin Miedo al Exito - A Conversation About Cultura\, Award Letters\, and College Debt
DESCRIPTION:
URL:https://success1.ccc.edu/event/daley-sin-miedo-al-exito-a-conversation-about-cultura-award-letters-and-college-debt/
CATEGORIES:Richard J. Daley
ATTACH;FMTTYPE=image/jpeg:https://success1.ccc.edu/app/uploads/Hispanic-Heritage-Month_Calendar-Image_RD.jpg
END:VEVENT
BEGIN:VEVENT
DTSTART;TZID=America/Chicago:20241001T120000
DTEND;TZID=America/Chicago:20241001T140000
DTSTAMP:20260419T233740
CREATED:20240910T183539Z
LAST-MODIFIED:20240910T183540Z
UID:10002218-1727784000-1727791200@success1.ccc.edu
SUMMARY:Daley: Sin Miedo al Éxito: Unlock Your Potential
DESCRIPTION:
URL:https://success1.ccc.edu/event/daley-sin-miedo-al-exito-unlock-your-potential/
CATEGORIES:Richard J. Daley
ATTACH;FMTTYPE=image/png:https://success1.ccc.edu/app/uploads/Transfer_Per-College_RD.png
END:VEVENT
BEGIN:VEVENT
DTSTART;TZID=America/Chicago:20241002T100000
DTEND;TZID=America/Chicago:20241002T130000
DTSTAMP:20260419T233740
CREATED:20240801T160325Z
LAST-MODIFIED:20240801T160325Z
UID:10001849-1727863200-1727874000@success1.ccc.edu
SUMMARY:Harold Washington: Fall 2024 Transfer Fair & Rockstar Café
DESCRIPTION:
URL:https://success1.ccc.edu/event/harold-washington-fall-2024-transfer-fair-rockstar-cafe/
CATEGORIES:District Office,District-wide,Harold Washington,Harry S Truman,Kennedy-King,Malcolm X,Olive-Harvey,Richard J. Daley,Wilbur Wright
ATTACH;FMTTYPE=image/png:https://success1.ccc.edu/app/uploads/Transfer_Per-College_HW.png
END:VEVENT
BEGIN:VEVENT
DTSTART;VALUE=DATE:20241003
DTEND;VALUE=DATE:20241101
DTSTAMP:20260419T233740
CREATED:20241003T223505Z
LAST-MODIFIED:20241003T223505Z
UID:10002405-1727913600-1730419199@success1.ccc.edu
SUMMARY:Daley: Breast Cancer Awareness Month
DESCRIPTION:
URL:https://success1.ccc.edu/event/daley-breast-cancer-awareness-month/
CATEGORIES:Richard J. Daley
ATTACH;FMTTYPE=image/jpeg:https://success1.ccc.edu/app/uploads/RD_Stdnt_Act_03.jpg
END:VEVENT
BEGIN:VEVENT
DTSTART;TZID=America/Chicago:20241004T143000
DTEND;TZID=America/Chicago:20241004T160000
DTSTAMP:20260419T233740
CREATED:20240801T160223Z
LAST-MODIFIED:20240801T160223Z
UID:10001848-1728052200-1728057600@success1.ccc.edu
SUMMARY:Harold Washington: Transfer 101 Workshop
DESCRIPTION:
URL:https://success1.ccc.edu/event/harold-washington-transfer-101-workshop-4/
CATEGORIES:District Office,District-wide,Harold Washington,Harry S Truman,Kennedy-King,Malcolm X,Olive-Harvey,Richard J. Daley,Wilbur Wright
ATTACH;FMTTYPE=image/png:https://success1.ccc.edu/app/uploads/Transfer_Per-College_HW.png
END:VEVENT
BEGIN:VEVENT
DTSTART;TZID=America/Chicago:20241007T100000
DTEND;TZID=America/Chicago:20241007T130000
DTSTAMP:20260419T233740
CREATED:20240918T142524Z
LAST-MODIFIED:20240918T142524Z
UID:10002323-1728295200-1728306000@success1.ccc.edu
SUMMARY:Daley: Governors State University Dual Degree Program Table Visit
DESCRIPTION:
URL:https://success1.ccc.edu/event/daley-governors-state-university-dual-degree-program-table-visit-4/
CATEGORIES:Richard J. Daley
ATTACH;FMTTYPE=image/png:https://success1.ccc.edu/app/uploads/Transfer_Table_Per-College_RD.png
END:VEVENT
BEGIN:VEVENT
DTSTART;TZID=America/Chicago:20241008T120000
DTEND;TZID=America/Chicago:20241008T150000
DTSTAMP:20260419T233740
CREATED:20241003T192258Z
LAST-MODIFIED:20241003T192258Z
UID:10002407-1728388800-1728399600@success1.ccc.edu
SUMMARY:Daley: Mexican Loteria
DESCRIPTION:
URL:https://success1.ccc.edu/event/daley-mexican-loteria/
CATEGORIES:Richard J. Daley
ATTACH;FMTTYPE=image/jpeg:https://success1.ccc.edu/app/uploads/RD_Stdnt_Act_03.jpg
END:VEVENT
BEGIN:VEVENT
DTSTART;TZID=America/Chicago:20241009T100000
DTEND;TZID=America/Chicago:20241009T110000
DTSTAMP:20260419T233740
CREATED:20240829T194609Z
LAST-MODIFIED:20240829T194609Z
UID:10002164-1728468000-1728471600@success1.ccc.edu
SUMMARY:Partners in Education Info Session
DESCRIPTION:
URL:https://success1.ccc.edu/event/partners-in-education-info-session-54/
CATEGORIES:Harold Washington,Harry S Truman,Kennedy-King,Malcolm X,Olive-Harvey,Richard J. Daley,Wilbur Wright
ATTACH;FMTTYPE=image/jpeg:https://success1.ccc.edu/app/uploads/CHA-Calendar-Image.jpg
END:VEVENT
BEGIN:VEVENT
DTSTART;TZID=America/Chicago:20241009T120000
DTEND;TZID=America/Chicago:20241009T130000
DTSTAMP:20260419T233740
CREATED:20240829T194602Z
LAST-MODIFIED:20240829T194602Z
UID:10002163-1728475200-1728478800@success1.ccc.edu
SUMMARY:Partners in Education Info Session
DESCRIPTION:
URL:https://success1.ccc.edu/event/partners-in-education-info-session-53/
CATEGORIES:Harold Washington,Harry S Truman,Kennedy-King,Malcolm X,Olive-Harvey,Richard J. Daley,Wilbur Wright
ATTACH;FMTTYPE=image/jpeg:https://success1.ccc.edu/app/uploads/CHA-Calendar-Image.jpg
END:VEVENT
BEGIN:VEVENT
DTSTART;TZID=America/Chicago:20241009T130000
DTEND;TZID=America/Chicago:20241009T140000
DTSTAMP:20260419T233740
CREATED:20240904T205638Z
LAST-MODIFIED:20240904T205638Z
UID:10002197-1728478800-1728482400@success1.ccc.edu
SUMMARY:City Colleges of Chicago Financial Capability Workshop
DESCRIPTION:
URL:https://success1.ccc.edu/event/city-colleges-of-chicago-financial-capability-workshop/
CATEGORIES:District-wide,Harold Washington,Harry S Truman,Kennedy-King,Olive-Harvey,Richard J. Daley,Wilbur Wright
ATTACH;FMTTYPE=image/jpeg:https://success1.ccc.edu/app/uploads/Financial-Aid_Calendar.jpg
END:VEVENT
BEGIN:VEVENT
DTSTART;TZID=America/Chicago:20241010T100000
DTEND;TZID=America/Chicago:20241010T130000
DTSTAMP:20260419T233740
CREATED:20241010T172749Z
LAST-MODIFIED:20241010T172749Z
UID:10002459-1728554400-1728565200@success1.ccc.edu
SUMMARY:Daley: National Louis University Table Visit
DESCRIPTION:
URL:https://success1.ccc.edu/event/daley-national-louis-university-table-visit-13/
CATEGORIES:Richard J. Daley
ATTACH;FMTTYPE=image/png:https://success1.ccc.edu/app/uploads/Transfer_Table_Per-College_RD.png
END:VEVENT
BEGIN:VEVENT
DTSTART;TZID=America/Chicago:20241010T100000
DTEND;TZID=America/Chicago:20241010T130000
DTSTAMP:20260419T233740
CREATED:20241010T172934Z
LAST-MODIFIED:20241010T172934Z
UID:10002460-1728554400-1728565200@success1.ccc.edu
SUMMARY:Daley: UIC School of Public Health Table Visit
DESCRIPTION:
URL:https://success1.ccc.edu/event/daley-uic-school-of-public-health-table-visit/
CATEGORIES:Richard J. Daley
ATTACH;FMTTYPE=image/png:https://success1.ccc.edu/app/uploads/Transfer_Table_Per-College_RD.png
END:VEVENT
BEGIN:VEVENT
DTSTART;TZID=America/Chicago:20241010T113000
DTEND;TZID=America/Chicago:20241010T150000
DTSTAMP:20260419T233740
CREATED:20241010T170021Z
LAST-MODIFIED:20241010T170022Z
UID:10002452-1728559800-1728572400@success1.ccc.edu
SUMMARY:Daley: BSU Kickoff
DESCRIPTION:
URL:https://success1.ccc.edu/event/daley-bsu-kickoff/
CATEGORIES:Richard J. Daley
ATTACH;FMTTYPE=image/jpeg:https://success1.ccc.edu/app/uploads/RD_Stdnt_Act_02.jpg
END:VEVENT
BEGIN:VEVENT
DTSTART;TZID=America/Chicago:20241010T130000
DTEND;TZID=America/Chicago:20241010T150000
DTSTAMP:20260419T233740
CREATED:20241010T172504Z
LAST-MODIFIED:20241010T172504Z
UID:10002458-1728565200-1728572400@success1.ccc.edu
SUMMARY:Daley: Roosevelt University Table Visit
DESCRIPTION:
URL:https://success1.ccc.edu/event/daley-roosevelt-university-table-visit-5/
CATEGORIES:Richard J. Daley
ATTACH;FMTTYPE=image/png:https://success1.ccc.edu/app/uploads/Transfer_Table_Per-College_RD.png
END:VEVENT
BEGIN:VEVENT
DTSTART;TZID=America/Chicago:20241010T183000
DTEND;TZID=America/Chicago:20241010T193000
DTSTAMP:20260419T233740
CREATED:20240829T194551Z
LAST-MODIFIED:20240829T194551Z
UID:10002162-1728585000-1728588600@success1.ccc.edu
SUMMARY:Partners in Education Info Session
DESCRIPTION:
URL:https://success1.ccc.edu/event/partners-in-education-info-session-52/
CATEGORIES:Harold Washington,Harry S Truman,Kennedy-King,Malcolm X,Olive-Harvey,Richard J. Daley,Wilbur Wright
ATTACH;FMTTYPE=image/jpeg:https://success1.ccc.edu/app/uploads/CHA-Calendar-Image.jpg
END:VEVENT
BEGIN:VEVENT
DTSTART;TZID=America/Chicago:20241015T100000
DTEND;TZID=America/Chicago:20241015T113000
DTSTAMP:20260419T233740
CREATED:20241010T170810Z
LAST-MODIFIED:20241010T170810Z
UID:10002455-1728986400-1728991800@success1.ccc.edu
SUMMARY:Daley: Transfer Tuesday Pop Up
DESCRIPTION:
URL:https://success1.ccc.edu/event/daley-transfer-tuesday-pop-up/
CATEGORIES:Richard J. Daley
ATTACH;FMTTYPE=image/png:https://success1.ccc.edu/app/uploads/Transfer_Per-College_RD.png
END:VEVENT
BEGIN:VEVENT
DTSTART;TZID=America/Chicago:20241015T173000
DTEND;TZID=America/Chicago:20241015T210000
DTSTAMP:20260419T233740
CREATED:20241003T192115Z
LAST-MODIFIED:20250826T214519Z
UID:10002406-1729013400-1729026000@success1.ccc.edu
SUMMARY:Daley: Hispanic Heritage Month - Dinner & Dancing
DESCRIPTION:
URL:https://success1.ccc.edu/event/daley-hispanic-heritage-month-dinner-dancing/
CATEGORIES:Richard J. Daley
ATTACH;FMTTYPE=image/jpeg:https://success1.ccc.edu/app/uploads/HHM-Calendar_RD.jpg
END:VEVENT
BEGIN:VEVENT
DTSTART;TZID=America/Chicago:20241016T100000
DTEND;TZID=America/Chicago:20241016T110000
DTSTAMP:20260419T233740
CREATED:20240829T194539Z
LAST-MODIFIED:20240829T194539Z
UID:10002161-1729072800-1729076400@success1.ccc.edu
SUMMARY:Partners in Education Info Session
DESCRIPTION:
URL:https://success1.ccc.edu/event/partners-in-education-info-session-51/
CATEGORIES:Harold Washington,Harry S Truman,Kennedy-King,Malcolm X,Olive-Harvey,Richard J. Daley,Wilbur Wright
ATTACH;FMTTYPE=image/jpeg:https://success1.ccc.edu/app/uploads/CHA-Calendar-Image.jpg
END:VEVENT
BEGIN:VEVENT
DTSTART;TZID=America/Chicago:20241016T100000
DTEND;TZID=America/Chicago:20241016T130000
DTSTAMP:20260419T233740
CREATED:20241016T200911Z
LAST-MODIFIED:20241016T200912Z
UID:10002559-1729072800-1729083600@success1.ccc.edu
SUMMARY:Daley: NEIU Table Visit
DESCRIPTION:
URL:https://success1.ccc.edu/event/daley-neiu-table-visit/
CATEGORIES:Richard J. Daley
ATTACH;FMTTYPE=image/png:https://success1.ccc.edu/app/uploads/Transfer_Table_Per-College_RD.png
END:VEVENT
BEGIN:VEVENT
DTSTART;TZID=America/Chicago:20241016T120000
DTEND;TZID=America/Chicago:20241016T130000
DTSTAMP:20260419T233740
CREATED:20240829T194529Z
LAST-MODIFIED:20240829T194529Z
UID:10002160-1729080000-1729083600@success1.ccc.edu
SUMMARY:Partners in Education Info Session
DESCRIPTION:
URL:https://success1.ccc.edu/event/partners-in-education-info-session-50/
CATEGORIES:Harold Washington,Harry S Truman,Kennedy-King,Malcolm X,Olive-Harvey,Richard J. Daley,Wilbur Wright
ATTACH;FMTTYPE=image/jpeg:https://success1.ccc.edu/app/uploads/CHA-Calendar-Image.jpg
END:VEVENT
BEGIN:VEVENT
DTSTART;TZID=America/Chicago:20241016T130000
DTEND;TZID=America/Chicago:20241016T150000
DTSTAMP:20260419T233740
CREATED:20241016T201254Z
LAST-MODIFIED:20241016T201254Z
UID:10002560-1729083600-1729090800@success1.ccc.edu
SUMMARY:Daley: Northwestern University School of Professional Studies Table Visit
DESCRIPTION:
URL:https://success1.ccc.edu/event/daley-northwestern-university-school-of-professional-studies-table-visit/
CATEGORIES:Richard J. Daley
ATTACH;FMTTYPE=image/png:https://success1.ccc.edu/app/uploads/Transfer_Table_Per-College_RD.png
END:VEVENT
BEGIN:VEVENT
DTSTART;TZID=America/Chicago:20241016T130000
DTEND;TZID=America/Chicago:20241016T150000
DTSTAMP:20260419T233740
CREATED:20241016T201840Z
LAST-MODIFIED:20241016T201840Z
UID:10002563-1729083600-1729090800@success1.ccc.edu
SUMMARY:Daley: UIC Table Visit
DESCRIPTION:
URL:https://success1.ccc.edu/event/daley-uic-table-visit/
CATEGORIES:Richard J. Daley
ATTACH;FMTTYPE=image/png:https://success1.ccc.edu/app/uploads/Transfer_Table_Per-College_RD.png
END:VEVENT
BEGIN:VEVENT
DTSTART;TZID=America/Chicago:20241017T100000
DTEND;TZID=America/Chicago:20241017T130000
DTSTAMP:20260419T233740
CREATED:20241016T200515Z
LAST-MODIFIED:20241016T200515Z
UID:10002558-1729159200-1729170000@success1.ccc.edu
SUMMARY:Daley: National Louis University Table Visit
DESCRIPTION:
URL:https://success1.ccc.edu/event/daley-national-louis-university-table-visit-14/
CATEGORIES:Richard J. Daley
ATTACH;FMTTYPE=image/png:https://success1.ccc.edu/app/uploads/Transfer_Table_Per-College_RD.png
END:VEVENT
BEGIN:VEVENT
DTSTART;TZID=America/Chicago:20241017T110000
DTEND;TZID=America/Chicago:20241017T130000
DTSTAMP:20260419T233740
CREATED:20240925T213336Z
LAST-MODIFIED:20240925T213336Z
UID:10002375-1729162800-1729170000@success1.ccc.edu
SUMMARY:Daley: Purple Thursday
DESCRIPTION:
URL:https://success1.ccc.edu/event/daley-purple-thursday/
CATEGORIES:Richard J. Daley
ATTACH;FMTTYPE=image/jpeg:https://success1.ccc.edu/app/uploads/Project-SAFE-calendar-image.jpg
END:VEVENT
BEGIN:VEVENT
DTSTART;TZID=America/Chicago:20241017T130000
DTEND;TZID=America/Chicago:20241017T150000
DTSTAMP:20260419T233740
CREATED:20241016T195520Z
LAST-MODIFIED:20241016T195520Z
UID:10002554-1729170000-1729177200@success1.ccc.edu
SUMMARY:Daley: UIC College of Business Table Visit
DESCRIPTION:
URL:https://success1.ccc.edu/event/daley-uic-college-of-business-table-visit/
CATEGORIES:Richard J. Daley
ATTACH;FMTTYPE=image/png:https://success1.ccc.edu/app/uploads/Transfer_Table_Per-College_RD.png
END:VEVENT
BEGIN:VEVENT
DTSTART;TZID=America/Chicago:20241021T140000
DTEND;TZID=America/Chicago:20241021T150000
DTSTAMP:20260419T233740
CREATED:20241016T192945Z
LAST-MODIFIED:20241016T192946Z
UID:10002553-1729519200-1729522800@success1.ccc.edu
SUMMARY:Daley: From Here to There - A Wellness Approach to the Transfer Process
DESCRIPTION:
URL:https://success1.ccc.edu/event/daley-from-here-to-there-a-wellness-approach-to-the-transfer-process-2/
CATEGORIES:Richard J. Daley
ATTACH;FMTTYPE=image/png:https://success1.ccc.edu/app/uploads/Transfer_Per-College_RD.png
END:VEVENT
BEGIN:VEVENT
DTSTART;TZID=America/Chicago:20241021T150000
DTEND;TZID=America/Chicago:20241021T160000
DTSTAMP:20260419T233740
CREATED:20240904T203751Z
LAST-MODIFIED:20240904T203751Z
UID:10002193-1729522800-1729526400@success1.ccc.edu
SUMMARY:Daley: From Here to There: A Wellness Approach to the Transfer Process
DESCRIPTION:
URL:https://success1.ccc.edu/event/daley-from-here-to-there-a-wellness-approach-to-the-transfer-process/
CATEGORIES:Richard J. Daley
ATTACH;FMTTYPE=image/png:https://success1.ccc.edu/app/uploads/Transfer_Per-College_RD.png
END:VEVENT
BEGIN:VEVENT
DTSTART;TZID=America/Chicago:20241022T100000
DTEND;TZID=America/Chicago:20241022T130000
DTSTAMP:20260419T233740
CREATED:20240904T203923Z
LAST-MODIFIED:20240904T203923Z
UID:10002194-1729591200-1729602000@success1.ccc.edu
SUMMARY:Daley: Fall 2024 "Blue Sapphire" Transfer Fair
DESCRIPTION:
URL:https://success1.ccc.edu/event/daley-fall-2024-blue-sapphire-transfer-fair/
CATEGORIES:Richard J. Daley
ATTACH;FMTTYPE=image/png:https://success1.ccc.edu/app/uploads/Transfer_Per-College_RD.png
END:VEVENT
BEGIN:VEVENT
DTSTART;TZID=America/Chicago:20241022T120000
DTEND;TZID=America/Chicago:20241022T131500
DTSTAMP:20260419T233740
CREATED:20241021T212042Z
LAST-MODIFIED:20241021T212042Z
UID:10002579-1729598400-1729602900@success1.ccc.edu
SUMMARY:Daley: Know Your Rights: Civic Engagement Information Session
DESCRIPTION:
URL:https://success1.ccc.edu/event/daley-know-your-rights-civic-engagement-information-session/
CATEGORIES:Richard J. Daley
ATTACH;FMTTYPE=image/jpeg:https://success1.ccc.edu/app/uploads/RD_Stdnt_Act_01-e1700515224199-RRa1EU.tmp_.jpg
END:VEVENT
END:VCALENDAR